BEGIN:VCALENDAR
VERSION:2.0
PRODID:-//ok.edith-webco.de//NONSGML kigkonsult.se iCalcreator 2.41.92//
CALSCALE:GREGORIAN
METHOD:PUBLISH
UID:66626364-3834-4830-a230-386533656532
X-WR-TIMEZONE:Europe/Berlin
X-LIC-LOCATION:Europe/Berlin
BEGIN:VEVENT
UID:595266-kulturportal@ok.edith-webco.de
DTSTAMP:20260425T191201Z
DESCRIPTION:Kurzbeschreibung:\n Musik\, Unterhaltung und gute Stimmung - fr
 eut euch auf ein buntes Dorffest-Wochenende vom 25.07. bis 27.07.2026!\n O
 rt:\n Freizeitgelände Heilig Garten\n Heilig Garten\, 77773 Schenkenzell\n
  Veranstalter:\n Schenkenzeller Vereine\n Termin:\n Beginn: 26.07.2026\, 1
 0:00 Uhr\n Ende: 26.07.2026\n Link:\n Page détaillée
DTSTART;TZID=Europe/Berlin:20260726T100000
DTEND;TZID=Europe/Berlin:20260726T130000
LOCATION:Freizeitgelände Heilig Garten\, Heilig Garten\, 77773 Schenkenzell
SUMMARY:Dorffest 2026 in Schenkenzell\, Freizeitgelände Heilig Garten
X-ALT-DESC;FMTTYPE=text/html:<strong>Kurzbeschreibung:</strong><br/>Musik\,
  Unterhaltung und gute Stimmung - freut euch auf ein buntes Dorffest-Woche
 nende vom 25.07. bis 27.07.2026!<br /><strong>Ort:</strong><br/>Freizeitge
 lände Heilig Garten<br/>Heilig Garten\, 77773 Schenkenzell<br /><strong>Ve
 ranstalter:</strong><br/>Schenkenzeller Vereine<br /><strong>Termin:</stro
 ng><br/>Beginn: 26.07.2026\, 10:00 Uhr<br/>Ende: 26.07.2026<br /><strong>L
 ink:</strong><br/><a href='https://ok.edith-webco.de/fr/evenements/detail/
 evenement/id/595266-dorffest-2026-in-schenkenzell/?vt=1'>Page détaillée </
 a>
END:VEVENT
END:VCALENDAR
