BEGIN:VCALENDAR
VERSION:2.0
PRODID:-//ok.edith-webco.de//NONSGML kigkonsult.se iCalcreator 2.41.92//
CALSCALE:GREGORIAN
METHOD:PUBLISH
UID:39323336-3234-4833-a238-396664333266
X-WR-TIMEZONE:Europe/Berlin
X-LIC-LOCATION:Europe/Berlin
BEGIN:VEVENT
UID:595292-kulturportal@ok.edith-webco.de
DTSTAMP:20260425T164750Z
DESCRIPTION:Kurzbeschreibung:\n Tradition erleben\, Brauchtum lebendig halt
 en und dabei herzlich lachen\n Ort:\n Vesperstube Bermersbach „Merci Gabi“
 \n Hausmatt 3\, 77723 Gengenbach\n Veranstalter:\n Gengenbach Kultur- und 
 Tourismus GmbH\n Termin:\n Beginn: 16.07.2026\, 19:00 Uhr\n Ende: 16.07.20
 26\n Tickets:\n Achat de billets\n https://ortenaukultur.reservix.de/p/res
 ervix/event/2557817\n Einheitspreis:\n jusqu'à 12\,00 € + Réduction\n *Tou
 te taxe comprise\n \n Link:\n Page détaillée
DTSTART;TZID=Europe/Berlin:20260716T190000
DTEND;TZID=Europe/Berlin:20260716T220000
LOCATION:Vesperstube Bermersbach „Merci Gabi“\, Hausmatt 3\, 77723 Gengenba
 ch
SUMMARY:Gengenbacher G´schichten - mit den Bahrs\, Vesperstube Bermersbach 
 „Merci Gabi“
X-ALT-DESC;FMTTYPE=text/html:<strong>Kurzbeschreibung:</strong><br/>Traditi
 on erleben\, Brauchtum lebendig halten und dabei herzlich lachen<br /><str
 ong>Ort:</strong><br/>Vesperstube Bermersbach „Merci Gabi“<br/>Hausmatt 3\
 , 77723  Gengenbach<br /><strong>Veranstalter:</strong><br/>Gengenbach Kul
 tur- und Tourismus GmbH<br /><strong>Termin:</strong><br/>Beginn: 16.07.20
 26\, 19:00 Uhr<br/>Ende: 16.07.2026<br /><strong>Tickets: </strong><br/><a
  rel='asdf' href='https://ok.edith-webco.de/fr/detail/billets/id/595292-ge
 ngenbacher-g-schichten-mit-den-bahrs/?follow=https%253A%252F%252Fortenauku
 ltur.reservix.de%252Fp%252Freservix%252Fevent%252F2557817' target='_blank'
  title='' id='ticketlink'>Achat de billets</a><br/>https://ortenaukultur.r
 eservix.de/p/reservix/event/2557817<br/><b>Einheitspreis: </b><br />jusqu&
 #039\;à 12\,00 &euro\;&nbsp\; + Réduction<br />*Toute taxe comprise<br /><
 br /><strong>Link:</strong><br/><a href='https://ok.edith-webco.de/fr/even
 ements/detail/evenement/id/595292-gengenbacher-g-schichten-mit-den-bahrs/?
 vt=1'>Page détaillée </a>
END:VEVENT
END:VCALENDAR
