BEGIN:VCALENDAR
VERSION:2.0
PRODID:-//ok.edith-webco.de//NONSGML kigkonsult.se iCalcreator 2.41.92//
CALSCALE:GREGORIAN
METHOD:PUBLISH
UID:32336361-3461-4139-a336-386363313637
X-WR-TIMEZONE:Europe/Berlin
X-LIC-LOCATION:Europe/Berlin
BEGIN:VEVENT
UID:595293-kulturportal@ok.edith-webco.de
DTSTAMP:20260425T202424Z
DESCRIPTION:Kurzbeschreibung:\n Wunder gescheh`n für den\, der glauben kann
  Aufführung am Sonntag\, den 22. November 2026 um 15.00 Uhr\n Ort:\n Stadt
 halle\n Großherzog-Friedrich-Str. 19\, 77694 Kehl\n Veranstalter:\n Karlhe
 inz Barbo\n Termin:\n Beginn: 22.11.2026\n Ende: 22.11.2026\n Tickets:\n T
 ickets über Reservix\n https://www.reservix.de/tickets-odilia-wunder-gesch
 ehn-fuer-den-der-glauben-kann-in-kehl-stadthalle-kehl-ganzer-saal-am-22-11
 -2026/e2531105\n Tickets: Bei Reservix und allen bekannten Vorverkaufsstel
 len ab 26\,50 €\n Link:\n Page détaillée
DTSTART;TZID=Europe/Berlin:20261122T000000
DTEND;TZID=Europe/Berlin:20261122T030000
LOCATION:Stadthalle\, Großherzog-Friedrich-Str. 19\, 77694 Kehl
SUMMARY:Musical ODILIA\, Stadthalle
X-ALT-DESC;FMTTYPE=text/html:<strong>Kurzbeschreibung:</strong><br/>Wunder 
 gescheh`n für den\, der glauben kann\nAufführung am Sonntag\, den 22. Nove
 mber 2026 um 15.00 Uhr<br /><strong>Ort:</strong><br/>Stadthalle<br/>Großh
 erzog-Friedrich-Str. 19\, 77694 Kehl<br /><strong>Veranstalter:</strong><b
 r/>Karlheinz Barbo<br /><strong>Termin:</strong><br/>Beginn: 22.11.2026<br
 />Ende: 22.11.2026<br /><strong>Tickets: </strong><br/><a  class='wco_cb_s
 ubtitle_link'  id='ticketlink'  href='https://www.reservix.de/tickets-odil
 ia-wunder-geschehn-fuer-den-der-glauben-kann-in-kehl-stadthalle-kehl-ganze
 r-saal-am-22-11-2026/e2531105' target='_blank' title='Öffnet externen Link
  in einem neuen Fenster'>Tickets über Reservix</a><br/>https://www.reservi
 x.de/tickets-odilia-wunder-geschehn-fuer-den-der-glauben-kann-in-kehl-stad
 thalle-kehl-ganzer-saal-am-22-11-2026/e2531105<br/>Tickets:  Bei Reservix 
 und allen bekannten Vorverkaufsstellen ab 26\,50 €<br /><strong>Link:</str
 ong><br/><a href='https://ok.edith-webco.de/fr/evenements/detail/evenement
 /id/595293-musical-odilia/?vt=1'>Page détaillée </a>
END:VEVENT
END:VCALENDAR
