BEGIN:VCALENDAR
VERSION:2.0
PRODID:-//ok.edith-webco.de//NONSGML kigkonsult.se iCalcreator 2.41.92//
CALSCALE:GREGORIAN
METHOD:PUBLISH
UID:66366439-3637-4137-b065-396430393534
X-WR-TIMEZONE:Europe/Berlin
X-LIC-LOCATION:Europe/Berlin
BEGIN:VEVENT
UID:588629-kulturportal@ok.edith-webco.de
DTSTAMP:20260425T194022Z
DESCRIPTION:Kurzbeschreibung:\n Wer singt gewinnt - eigene Lieder im musika
 lischen Wettstreit. Dein Song. Dein Moment.\n Ort:\n Das Kulturhaus.\n Am 
 Läger 12\, 77694 Kehl\n Veranstalter:\n Kulturbüro Kehl\n Termin:\n Beginn
 : 20.11.2026\, 20:00 Uhr\n Ende: 20.11.2026\n Tickets:\n Achat de billets
 \n https://ortenaukultur.reservix.de/p/reservix/event/2511202\n 1. Kategor
 ie:\n jusqu'à 18\,60 € + Réduction\n *Toute taxe comprise\n \n Link:\n Pag
 e détaillée
DTSTART;TZID=Europe/Berlin:20261120T200000
DTEND;TZID=Europe/Berlin:20261120T230000
LOCATION:Das Kulturhaus.\, Am Läger 12\, 77694 Kehl
SUMMARY:Song Slam\, Das Kulturhaus.
X-ALT-DESC;FMTTYPE=text/html:<strong>Kurzbeschreibung:</strong><br/>Wer sin
 gt gewinnt - eigene Lieder im musikalischen Wettstreit. Dein Song. Dein Mo
 ment.<br /><strong>Ort:</strong><br/>Das Kulturhaus.<br/>Am Läger 12\, 776
 94 Kehl<br /><strong>Veranstalter:</strong><br/>Kulturbüro Kehl<br /><stro
 ng>Termin:</strong><br/>Beginn: 20.11.2026\, 20:00 Uhr<br/>Ende: 20.11.202
 6<br /><strong>Tickets: </strong><br/><a rel='asdf' href='https://ok.edith
 -webco.de/fr/evenements/detail/billets/id/588629-song-slam/?follow=https%2
 53A%252F%252Fortenaukultur.reservix.de%252Fp%252Freservix%252Fevent%252F25
 11202' target='_blank' title='' id='ticketlink'>Achat de billets</a><br/>h
 ttps://ortenaukultur.reservix.de/p/reservix/event/2511202<br/><b>1. Katego
 rie: </b><br />jusqu&#039\;à 18\,60 &euro\;&nbsp\; + Réduction<br />*Toute
  taxe comprise<br /><br /><strong>Link:</strong><br/><a href='https://ok.e
 dith-webco.de/fr/evenements/detail/evenement/id/588629-song-slam/?vt=1'>Pa
 ge détaillée </a>
END:VEVENT
END:VCALENDAR
