BEGIN:VCALENDAR
VERSION:2.0
PRODID:-//ok.edith-webco.de//NONSGML kigkonsult.se iCalcreator 2.41.92//
CALSCALE:GREGORIAN
METHOD:PUBLISH
UID:38326463-3733-4436-b435-653265346234
X-WR-TIMEZONE:Europe/Berlin
X-LIC-LOCATION:Europe/Berlin
BEGIN:VEVENT
UID:447173-kulturportal@ok.edith-webco.de
DTSTAMP:20260425T142519Z
DESCRIPTION:Kurzbeschreibung:\n An Vollmondtagen ........... im silbernen L
 icht des Vollmonds walken – eine besondere Atmosphäre!\n Ort:\n Treffpunkt
  siehe Beschreibung\, Zell am Harmersbach\n Veranstalter:\n Tourist-Inform
 ation\n Termin:\n Beginn: 30.04.2026\, 19:00 Uhr\n Ende: 30.04.2026\n Link
 :\n Page détaillée
DTSTART;TZID=Europe/Berlin:20260430T190000
DTEND;TZID=Europe/Berlin:20260430T220000
LOCATION:Treffpunkt siehe Beschreibung\, Zell am Harmersbach
SUMMARY:Vollmond-Tour Abende voller Magie\, Treffpunkt siehe Beschreibung
X-ALT-DESC;FMTTYPE=text/html:<strong>Kurzbeschreibung:</strong><br/>An Voll
 mondtagen ........... im silbernen Licht des Vollmonds walken – eine beson
 dere Atmosphäre!\n<br /><strong>Ort:</strong><br/>Treffpunkt siehe Beschre
 ibung\, Zell am Harmersbach<br /><strong>Veranstalter:</strong><br/>Touris
 t-Information<br /><strong>Termin:</strong><br/>Beginn: 30.04.2026\, 19:00
  Uhr<br/>Ende: 30.04.2026<br /><strong>Link:</strong><br/><a href='https:/
 /ok.edith-webco.de/fr/evenements/detail/evenement/id/447173-vollmond-tour-
 abende-voller-magie/?vt=1'>Page détaillée </a>
END:VEVENT
END:VCALENDAR
