BEGIN:VCALENDAR
VERSION:2.0
PRODID:-//ok.edith-webco.de//NONSGML kigkonsult.se iCalcreator 2.41.92//
CALSCALE:GREGORIAN
METHOD:PUBLISH
UID:33353165-6264-4637-a235-333465636666
X-WR-TIMEZONE:Europe/Berlin
X-LIC-LOCATION:Europe/Berlin
BEGIN:VEVENT
UID:568112-kulturportal@ok.edith-webco.de
DTSTAMP:20260425T005913Z
DESCRIPTION:Kurzbeschreibung:\n Ettenheim tritt wieder in die Pedale: Berei
 ts zum sechsten Mal beteiligt sich die Stadt am bundesweiten Wettbewerb\n 
 Ort:\n Ortenaukreis - rund um Ettenheim\n Auf den Espen\, 77955 Ettenheim
 \n Veranstalter:\n Stadt Ettenheim (HS)\n Termin:\n Beginn: 01.05.2026\n E
 nde: 01.05.2026\n Link:\n Page détaillée
DTSTART;TZID=Europe/Berlin:20260501T000000
DTEND;TZID=Europe/Berlin:20260501T030000
LOCATION:Ortenaukreis - rund um Ettenheim\, Auf den Espen\, 77955 Ettenheim
SUMMARY:STADTRADELN - Ettenheim macht wieder mit!\, Auf den Espen - Parkpla
 tz / Freizeitanlage
X-ALT-DESC;FMTTYPE=text/html:<strong>Kurzbeschreibung:</strong><br/>Ettenhe
 im tritt wieder in die Pedale: Bereits zum sechsten Mal beteiligt sich die
  Stadt am bundesweiten Wettbewerb <br /><strong>Ort:</strong><br/>Ortenauk
 reis - rund um Ettenheim<br/>Auf den Espen\, 77955 Ettenheim<br /><strong>
 Veranstalter:</strong><br/>Stadt Ettenheim (HS)<br /><strong>Termin:</stro
 ng><br/>Beginn: 01.05.2026<br/>Ende: 01.05.2026<br /><strong>Link:</strong
 ><br/><a href='https://ok.edith-webco.de/fr/evenements/detail/evenement/id
 /568112-stadtradeln-ettenheim-macht-wieder-mit/?vt=1'>Page détaillée </a>
END:VEVENT
END:VCALENDAR
