BEGIN:VCALENDAR
VERSION:2.0
PRODID:-//ok.edith-webco.de//NONSGML kigkonsult.se iCalcreator 2.41.92//
CALSCALE:GREGORIAN
METHOD:PUBLISH
UID:61663766-3531-4235-b435-363935346230
X-WR-TIMEZONE:Europe/Berlin
X-LIC-LOCATION:Europe/Berlin
BEGIN:VEVENT
UID:590639-kulturportal@ok.edith-webco.de
DTSTAMP:20260424T203206Z
DESCRIPTION:Kurzbeschreibung:\n Lesewerkstatt für alte Handschriften - Work
 shop für Erwachsene im Stadtarchiv\n Ort:\n Stadtarchiv\n Ritterstr. 10\, 
 77652 Offenburg\n Veranstalter:\n Museum im Ritterhaus Offenburg\n Termin:
 \n Beginn: 28.05.2026\, 18:00 Uhr\n Ende: 28.05.2026\n Link:\n Page détail
 lée
DTSTART;TZID=Europe/Berlin:20260528T180000
DTEND;TZID=Europe/Berlin:20260528T210000
LOCATION:Stadtarchiv\, Ritterstr. 10\, 77652 Offenburg
SUMMARY:Lesewerkstatt\, Museum im Ritterhaus
X-ALT-DESC;FMTTYPE=text/html:<strong>Kurzbeschreibung:</strong><br/>Lesewer
 kstatt für alte Handschriften - Workshop für Erwachsene im Stadtarchiv<br 
 /><strong>Ort:</strong><br/>Stadtarchiv<br/>Ritterstr. 10\, 77652 Offenbur
 g<br /><strong>Veranstalter:</strong><br/>Museum im Ritterhaus Offenburg<b
 r /><strong>Termin:</strong><br/>Beginn: 28.05.2026\, 18:00 Uhr<br/>Ende: 
 28.05.2026<br /><strong>Link:</strong><br/><a href='https://ok.edith-webco
 .de/fr/evenements/detail/evenement/id/590639-lesewerkstatt/?vt=1'>Page dét
 aillée </a>
END:VEVENT
END:VCALENDAR
