BEGIN:VCALENDAR
VERSION:2.0
PRODID:-//ok.edith-webco.de//NONSGML kigkonsult.se iCalcreator 2.41.92//
CALSCALE:GREGORIAN
METHOD:PUBLISH
UID:35613431-3030-4234-b266-343465333531
X-WR-TIMEZONE:Europe/Berlin
X-LIC-LOCATION:Europe/Berlin
BEGIN:VEVENT
UID:584455-kulturportal@ok.edith-webco.de
DTSTAMP:20260425T102431Z
DESCRIPTION:Kurzbeschreibung:\n Im Rahmen des Ferienprogramms der Gemeinden
  Herbolzheim\, Ringsheim und Ettenheim lädt der Schwarzwaldverein zu einer
  Sternwanderung ein.\n Ort:\n Ettenheim Rathaus\n Münstertalstraße\, 77955
  Ettenheim\n Veranstalter:\n Schwarzwaldverein\n Termin:\n Beginn: 31.07.2
 026\, 19:00 Uhr\n Ende: 31.07.2026\n Link:\n Page détaillée
DTSTART;TZID=Europe/Berlin:20260731T190000
DTEND;TZID=Europe/Berlin:20260731T220000
LOCATION:Ettenheim Rathaus\, Münstertalstraße\, 77955 Ettenheim
SUMMARY:Ferienprogramm Heuberg\, Ettenheimmünster
X-ALT-DESC;FMTTYPE=text/html:<strong>Kurzbeschreibung:</strong><br/>Im Rahm
 en des Ferienprogramms der Gemeinden Herbolzheim\, Ringsheim\nund Ettenhei
 m lädt der Schwarzwaldverein zu einer Sternwanderung ein.<br /><strong>Ort
 :</strong><br/>Ettenheim Rathaus<br/>Münstertalstraße\, 77955 Ettenheim<br
  /><strong>Veranstalter:</strong><br/>Schwarzwaldverein<br /><strong>Termi
 n:</strong><br/>Beginn: 31.07.2026\, 19:00 Uhr<br/>Ende: 31.07.2026<br /><
 strong>Link:</strong><br/><a href='https://ok.edith-webco.de/fr/evenements
 /detail/evenement/id/584455-ferienprogramm-heuberg/?vt=1'>Page détaillée <
 /a>
END:VEVENT
END:VCALENDAR
