BEGIN:VCALENDAR
VERSION:2.0
PRODID:-//ok.edith-webco.de//NONSGML kigkonsult.se iCalcreator 2.41.92//
CALSCALE:GREGORIAN
METHOD:PUBLISH
UID:30396135-3139-4139-a466-643866613430
X-WR-TIMEZONE:Europe/Berlin
X-LIC-LOCATION:Europe/Berlin
BEGIN:VEVENT
UID:585144-kulturportal@ok.edith-webco.de
DTSTAMP:20260425T003724Z
DESCRIPTION:Kurzbeschreibung:\n Wein von der Weinmanufaktur Gengenbach\, Kö
 stliches von Egbert Laifer Mit Elmar Langenbacher und „die Fallers“-Star A
 lessio Hirschkorn\n Ort:\n Gemeindehaus St. Marien\n Klosterstr. 20\, 7772
 3 Gengenbach\n Veranstalter:\n Gengenbach Kultur- und Tourismus GmbH\n Ter
 min:\n Beginn: 06.06.2026\, 18:00 Uhr\n Ende: 06.06.2026\n Tickets:\n Acha
 t de billets\n https://ortenaukultur.reservix.de/p/reservix/event/2557769
 \n Einheitspreis:\n jusqu'à 65\,90 € + Réduction\n *Toute taxe comprise\n 
 \n Link:\n Page détaillée
DTSTART;TZID=Europe/Berlin:20260606T180000
DTEND;TZID=Europe/Berlin:20260606T210000
LOCATION:Gemeindehaus St. Marien\, Klosterstr. 20\, 77723 Gengenbach
SUMMARY:Wein und Genuss\, Gemeindehaus St. Marien
X-ALT-DESC;FMTTYPE=text/html:<strong>Kurzbeschreibung:</strong><br/>Wein vo
 n der Weinmanufaktur Gengenbach\, Köstliches von Egbert Laifer\nMit Elmar 
 Langenbacher und „die Fallers“-Star Alessio Hirschkorn\n<br /><strong>Ort:
 </strong><br/>Gemeindehaus St. Marien<br/>Klosterstr. 20\, 77723 Gengenbac
 h<br /><strong>Veranstalter:</strong><br/>Gengenbach Kultur- und Tourismus
  GmbH<br /><strong>Termin:</strong><br/>Beginn: 06.06.2026\, 18:00 Uhr<br/
 >Ende: 06.06.2026<br /><strong>Tickets: </strong><br/><a rel='asdf' href='
 https://ok.edith-webco.de/fr/evenements/enfants-jeunes/detail/billets/id/5
 85144-wein-und-genuss/?follow=https%253A%252F%252Fortenaukultur.reservix.d
 e%252Fp%252Freservix%252Fevent%252F2557769' target='_blank' title='' id='t
 icketlink'>Achat de billets</a><br/>https://ortenaukultur.reservix.de/p/re
 servix/event/2557769<br/><b>Einheitspreis: </b><br />jusqu&#039\;à 65\,90 
 &euro\;&nbsp\; + Réduction<br />*Toute taxe comprise<br /><br /><strong>Li
 nk:</strong><br/><a href='https://ok.edith-webco.de/fr/evenements/detail/e
 venement/id/585144-wein-und-genuss/?vt=1'>Page détaillée </a>
END:VEVENT
END:VCALENDAR
