BEGIN:VCALENDAR
VERSION:2.0
PRODID:-//ok.edith-webco.de//NONSGML kigkonsult.se iCalcreator 2.41.92//
CALSCALE:GREGORIAN
METHOD:PUBLISH
UID:33626531-3430-4539-a136-373437663864
X-WR-TIMEZONE:Europe/Berlin
X-LIC-LOCATION:Europe/Berlin
BEGIN:VEVENT
UID:590347-kulturportal@ok.edith-webco.de
DTSTAMP:20260425T211449Z
DESCRIPTION:Kurzbeschreibung:\n 15-minütige Kurzführung zur Blüte der frühn
 euzeitlichen Flößerei im Kinzigtal\n Ort:\n Museum im Ritterhaus\n Ritters
 tr. 10\, 77652 Offenburg\n Veranstalter:\n Museum im Ritterhaus Offenburg
 \n Termin:\n Beginn: 13.05.2026\, 12:30 Uhr\n Ende: 13.05.2026\n Link:\n P
 age détaillée
DTSTART;TZID=Europe/Berlin:20260513T123000
DTEND;TZID=Europe/Berlin:20260513T153000
LOCATION:Museum im Ritterhaus\, Ritterstr. 10\, 77652 Offenburg
SUMMARY:Kulturpause - Riese\, Schwall und Wiede: Wasserwege der Flößer\, Mu
 seum im Ritterhaus
X-ALT-DESC;FMTTYPE=text/html:<strong>Kurzbeschreibung:</strong><br/>15-minü
 tige Kurzführung  zur Blüte der frühneuzeitlichen Flößerei im Kinzigtal<br
  /><strong>Ort:</strong><br/>Museum im Ritterhaus<br/>Ritterstr. 10\, 7765
 2 Offenburg<br /><strong>Veranstalter:</strong><br/>Museum im Ritterhaus O
 ffenburg<br /><strong>Termin:</strong><br/>Beginn: 13.05.2026\, 12:30 Uhr<
 br/>Ende: 13.05.2026<br /><strong>Link:</strong><br/><a href='https://ok.e
 dith-webco.de/fr/evenements/detail/evenement/id/590347-kulturpause-riese-s
 chwall-und-wiede-wasserwege-der-floesser/?vt=1'>Page détaillée </a>
END:VEVENT
END:VCALENDAR
