BEGIN:VCALENDAR
VERSION:2.0
PRODID:-//ok.edith-webco.de//NONSGML kigkonsult.se iCalcreator 2.41.92//
CALSCALE:GREGORIAN
METHOD:PUBLISH
UID:39343365-6439-4266-a534-366561366362
X-WR-TIMEZONE:Europe/Berlin
X-LIC-LOCATION:Europe/Berlin
BEGIN:VEVENT
UID:567660-kulturportal@ok.edith-webco.de
DTSTAMP:20260425T142617Z
DESCRIPTION:Kurzbeschreibung:\n Führungen für Kinder und Schulklassen. Bere
 its im 18. Jahrhundert zeugen Urkunden von der Schmiede an der Schutter al
 s Werkstätte zur Herstellung von Geräten\n Ort:\n Treffpunkt: Hammerschmie
 de Reichenbach.Schindelstraße 8\, Lahr\n Veranstalter:\n Schwarzwaldverein
  Reichenbach\n Termin:\n Beginn: 06.06.2026\, 15:00 Uhr\n Ende: 06.06.2026
 \n Tickets:\n 3\,00 € pro Person\n Gruppen buchbar von März bis Oktober\n 
 \n Link:\n Page détaillée
DTSTART;TZID=Europe/Berlin:20260606T150000
DTEND;TZID=Europe/Berlin:20260606T180000
LOCATION:Treffpunkt: Hammerschmiede Reichenbach.Schindelstraße 8\, Lahr
SUMMARY:Ein hammerstarkes Geschichtserlebnis - Führung in der Hammerschmied
 e Reichenbach \, Treffpunkt: Hammerschmiede Reichenbach.Schindelstraße 8
X-ALT-DESC;FMTTYPE=text/html:<strong>Kurzbeschreibung:</strong><br/>Führung
 en für Kinder und Schulklassen. Bereits im 18. Jahrhundert zeugen Urkunden
  von \nder Schmiede an der Schutter als Werkstätte zur Herstellung von Ger
 äten <br /><strong>Ort:</strong><br/>Treffpunkt: Hammerschmiede Reichenbac
 h.Schindelstraße 8\, Lahr<br /><strong>Veranstalter:</strong><br/> Schwarz
 waldverein Reichenbach<br /><strong>Termin:</strong><br/>Beginn: 06.06.202
 6\, 15:00 Uhr<br/>Ende: 06.06.2026<br /><strong>Tickets: </strong><br/>3\,
 00 € pro Person<br />\nGruppen buchbar von März bis Oktober<br />\n<br /><
 strong>Link:</strong><br/><a href='https://ok.edith-webco.de/fr/evenements
 /detail/evenement/id/567660-ein-hammerstarkes-geschichtserlebnis-fuehrung-
 in-der-hammerschmiede-reichenbach/?vt=1'>Page détaillée </a>
END:VEVENT
END:VCALENDAR
