BEGIN:VCALENDAR
VERSION:2.0
PRODID:-//ok.edith-webco.de//NONSGML kigkonsult.se iCalcreator 2.41.92//
CALSCALE:GREGORIAN
METHOD:PUBLISH
UID:64376136-6230-4263-a432-366139383037
X-WR-TIMEZONE:Europe/Berlin
X-LIC-LOCATION:Europe/Berlin
BEGIN:VEVENT
UID:366704-kulturportal@ok.edith-webco.de
DTSTAMP:20260425T003938Z
DESCRIPTION:Kurzbeschreibung:\n Kirchenkonzert der Stadtkapelle Gengenbach 
 in der Stadtkirche St. Marien\n Ort:\n s\n \, 77723 Gengenbach\n Veranstal
 ter:\n Stadtkapelle Gengenbach\n Termin:\n Beginn: 13.12.2026\, 16:00 Uhr
 \n Ende: 13.12.2026\n Tickets:\n frei\n Link:\n Page détaillée
DTSTART;TZID=Europe/Berlin:20261213T160000
DTEND;TZID=Europe/Berlin:20261213T190000
LOCATION:s\, \, 77723 Gengenbach
SUMMARY:Kirchenkonzert der Stadtkapelle\, Stadtkirche St. Marien
X-ALT-DESC;FMTTYPE=text/html:<strong>Kurzbeschreibung:</strong><br/>Kirchen
 konzert der Stadtkapelle Gengenbach in der Stadtkirche St. Marien<br /><st
 rong>Ort:</strong><br/>s<br/>\, 77723 Gengenbach<br /><strong>Veranstalter
 :</strong><br/>Stadtkapelle Gengenbach<br /><strong>Termin:</strong><br/>B
 eginn: 13.12.2026\, 16:00 Uhr<br/>Ende: 13.12.2026<br /><strong>Tickets: <
 /strong><br/>frei<br /><strong>Link:</strong><br/><a href='https://ok.edit
 h-webco.de/fr/evenements/detail/evenement/id/366704-kirchenkonzert-der-sta
 dtkapelle/?vt=1'>Page détaillée </a>
END:VEVENT
END:VCALENDAR
