BEGIN:VCALENDAR
VERSION:2.0
PRODID:-//ok.edith-webco.de//NONSGML kigkonsult.se iCalcreator 2.41.92//
CALSCALE:GREGORIAN
METHOD:PUBLISH
UID:61663136-3965-4532-b665-383961623462
X-WR-TIMEZONE:Europe/Berlin
X-LIC-LOCATION:Europe/Berlin
BEGIN:VEVENT
UID:455675-kulturportal@ok.edith-webco.de
DTSTAMP:20260425T022152Z
DESCRIPTION:Kurzbeschreibung:\n Eintritt frei: Stimmkräftige Sänger*innen u
 nd eine kleine Bewirtung! Hermehansenhof\, bei Familie Spitzmüller.\n Ort:
 \n Hermehansenhof\, Im Dorf 33 - bei Fam. Spitzmüller\, Nordrach\n Veranst
 alter:\n Touristen-Information Nordrach\n Termin:\n Beginn: 22.07.2026\, 2
 0:00 Uhr\n Ende: 22.07.2026\n Link:\n Page détaillée
DTSTART;TZID=Europe/Berlin:20260722T200000
DTEND;TZID=Europe/Berlin:20260722T230000
LOCATION:Hermehansenhof\, Im Dorf 33 - bei Fam. Spitzmüller\, Nordrach
SUMMARY:Musik im Dorf mit dem Chor der Klänge.\, Hermehansenhof\, Im Dorf 3
 3 - bei Fam. Spitzmüller
X-ALT-DESC;FMTTYPE=text/html:<strong>Kurzbeschreibung:</strong><br/>Eintrit
 t frei: Stimmkräftige Sänger*innen und eine kleine Bewirtung! Hermehansenh
 of\, bei Familie Spitzmüller.<br /><strong>Ort:</strong><br/>Hermehansenho
 f\, Im Dorf 33 - bei Fam. Spitzmüller\, Nordrach<br /><strong>Veranstalter
 :</strong><br/>Touristen-Information Nordrach<br /><strong>Termin:</strong
 ><br/>Beginn: 22.07.2026\, 20:00 Uhr<br/>Ende: 22.07.2026<br /><strong>Lin
 k:</strong><br/><a href='https://ok.edith-webco.de/fr/evenements/detail/ev
 enement/id/455675-musik-im-dorf-mit-dem-chor-der-klaenge/?vt=1'>Page détai
 llée </a>
END:VEVENT
END:VCALENDAR
