BEGIN:VCALENDAR
VERSION:2.0
PRODID:-//ok.edith-webco.de//NONSGML kigkonsult.se iCalcreator 2.41.92//
CALSCALE:GREGORIAN
METHOD:PUBLISH
UID:64646439-3266-4236-b265-646362323264
X-WR-TIMEZONE:Europe/Berlin
X-LIC-LOCATION:Europe/Berlin
BEGIN:VEVENT
UID:507687-kulturportal@ok.edith-webco.de
DTSTAMP:20260425T171742Z
DESCRIPTION:Kurzbeschreibung:\n Gemeinschaftskonzert der Gengenbacher Musik
 kapellen im Rahmen des Adventskalenders auf dem historischen Marktplatz\n 
 Ort:\n Bühne vor dem Adventskalender auf dem historischen Marktplatz\, Gen
 genbach\n Veranstalter:\n Gengenbacher Musikkapellen\n Termin:\n Beginn: 2
 0.12.2026\, 16:00 Uhr\n Ende: 20.12.2026\n Link:\n Page détaillée
DTSTART;TZID=Europe/Berlin:20261220T160000
DTEND;TZID=Europe/Berlin:20261220T190000
LOCATION:Bühne vor dem Adventskalender auf dem historischen Marktplatz\, Ge
 ngenbach
SUMMARY:Gemeinschaftskonzert der Gengenbacher Musikkapellen\, Bühne vor dem
  Adventskalender auf dem historischen Marktplatz
X-ALT-DESC;FMTTYPE=text/html:<strong>Kurzbeschreibung:</strong><br/>Gemeins
 chaftskonzert der Gengenbacher Musikkapellen im Rahmen des Adventskalender
 s auf dem historischen Marktplatz<br /><strong>Ort:</strong><br/>Bühne vor
  dem Adventskalender auf dem historischen Marktplatz\, Gengenbach<br /><st
 rong>Veranstalter:</strong><br/>Gengenbacher Musikkapellen <br /><strong>T
 ermin:</strong><br/>Beginn: 20.12.2026\, 16:00 Uhr<br/>Ende: 20.12.2026<br
  /><strong>Link:</strong><br/><a href='https://ok.edith-webco.de/fr/evenem
 ents/detail/evenement/id/507687-gemeinschaftskonzert-der-gengenbacher-musi
 kkapellen/?vt=1'>Page détaillée </a>
END:VEVENT
END:VCALENDAR
