BEGIN:VCALENDAR
VERSION:2.0
PRODID:-//ok.edith-webco.de//NONSGML kigkonsult.se iCalcreator 2.41.92//
CALSCALE:GREGORIAN
METHOD:PUBLISH
UID:37363862-6666-4338-b033-656135386535
X-WR-TIMEZONE:Europe/Berlin
X-LIC-LOCATION:Europe/Berlin
BEGIN:VEVENT
UID:554954-kulturportal@ok.edith-webco.de
DTSTAMP:20260424T205721Z
DESCRIPTION:Kurzbeschreibung:\n Orgelkonzert mit dem Trompetenensemble Stut
 tgart und Domorganist Prof. Johannes Mayr (Stuttgart) an der Silbermann-Or
 gel mit Werken von Johann Sebastian Bach\n Ort:\n Wallfahrtskirche St. Lan
 delin\n Münstertalstraße\, 77955 Ettenheim-Ettenheimmünster\n Veranstalter
 :\n Röm.-Kath. Kirchengemeinde Ettenheim\n Termin:\n Beginn: 25.05.2026\, 
 17:00 Uhr\n Ende: 25.05.2026\n Tickets:\n Kartenvorverkauf: € 24.-/ 19.-\n
  \n BZ-Kartenservice: 0761/496-8888\n Lahrer Zeitung Kartenservice: 078212
 783-0\n Ettenheim: Tourist-Information: 07822/432-210\n \n Tageskasse und 
 Einlass ab 16.00 Uhr\n \n Link:\n Page détaillée
DTSTART;TZID=Europe/Berlin:20260525T170000
DTEND;TZID=Europe/Berlin:20260525T200000
LOCATION:Wallfahrtskirche St. Landelin\, Münstertalstraße\, 77955 Ettenheim
 -Ettenheimmünster
SUMMARY:Festliche BACH-Trompeten-GALA - Tönet\, Ihr Pauken! Erschallet\, Tr
 ompeten !\, Wallfahrtskirche St. Landelin
X-ALT-DESC;FMTTYPE=text/html:<strong>Kurzbeschreibung:</strong><br/>Orgelko
 nzert mit dem Trompetenensemble Stuttgart und Domorganist Prof. Johannes M
 ayr (Stuttgart) an der Silbermann-Orgel mit Werken von Johann Sebastian Ba
 ch<br /><strong>Ort:</strong><br/>Wallfahrtskirche St. Landelin<br/>Münste
 rtalstraße\, 77955 Ettenheim-Ettenheimmünster<br /><strong>Veranstalter:</
 strong><br/>Röm.-Kath. Kirchengemeinde Ettenheim<br /><strong>Termin:</str
 ong><br/>Beginn: 25.05.2026\, 17:00 Uhr<br/>Ende: 25.05.2026<br /><strong>
 Tickets: </strong><br/>Kartenvorverkauf: € 24.-/ 19.-<br />\n<br />\nBZ-Ka
 rtenservice: 0761/496-8888<br />\nLahrer Zeitung Kartenservice: 078212783-
 0<br />\nEttenheim: Tourist-Information: 07822/432-210<br />\n<br />\nTage
 skasse und Einlass ab 16.00 Uhr <br />\n<br /><strong>Link:</strong><br/><
 a href='https://ok.edith-webco.de/fr/evenements/detail/evenement/id/554954
 -festliche-bach-trompeten-gala-toenet-ihr-pauken-erschallet-trompeten/?vt=
 1'>Page détaillée </a>
END:VEVENT
END:VCALENDAR
