BEGIN:VCALENDAR
VERSION:2.0
PRODID:-//ok.edith-webco.de//NONSGML kigkonsult.se iCalcreator 2.41.92//
CALSCALE:GREGORIAN
METHOD:PUBLISH
UID:65313433-3662-4136-b465-323261396432
X-WR-TIMEZONE:Europe/Berlin
X-LIC-LOCATION:Europe/Berlin
BEGIN:VEVENT
UID:573158-kulturportal@ok.edith-webco.de
DTSTAMP:20260425T191354Z
DESCRIPTION:Kurzbeschreibung:\n Matt Woosey - Singer Songwriter Genießen mi
 t allen Sinnen am lauschigsten Plätzchen in der Lahrer Marktstraße.\n Ort:
 \n Schäfer´s Eck\, Am Rosenbrunnen\, Kirchstraße 1\, 77933 Lahr\n Ecke Mar
 ktstraße/Kirchstraße\, 77933 Lahr\n Veranstalter:\n Stadtmarketing Lahr\n 
 Termin:\n Beginn: 26.06.2026\, 17:00 Uhr\n Ende: 26.06.2026\n Tickets:\n k
 ostenfreie Veranstaltung\n \n Link:\n Page détaillée
DTSTART;TZID=Europe/Berlin:20260626T170000
DTEND;TZID=Europe/Berlin:20260626T200000
LOCATION:Schäfer´s Eck\, Am Rosenbrunnen\, Kirchstraße 1\, 77933 Lahr \, Ec
 ke Marktstraße/Kirchstraße\, 77933 Lahr
SUMMARY:Musik & Kulinarik am Rosenbrunnen - Genuss im Sommer\, Rosenbrunnen
X-ALT-DESC;FMTTYPE=text/html:<strong>Kurzbeschreibung:</strong><br/>Matt Wo
 osey - Singer Songwriter\n\nGenießen mit allen Sinnen am lauschigsten Plät
 zchen in der Lahrer Marktstraße. <br /><strong>Ort:</strong><br/>Schäfer´s
  Eck\, Am Rosenbrunnen\, Kirchstraße 1\, 77933 Lahr <br/>Ecke Marktstraße/
 Kirchstraße\, 77933 Lahr<br /><strong>Veranstalter:</strong><br/>Stadtmark
 eting Lahr <br /><strong>Termin:</strong><br/>Beginn: 26.06.2026\, 17:00 U
 hr<br/>Ende: 26.06.2026<br /><strong>Tickets: </strong><br/>kostenfreie Ve
 ranstaltung<br />\n<br /><strong>Link:</strong><br/><a href='https://ok.ed
 ith-webco.de/fr/evenements/detail/evenement/id/573158-musik-kulinarik-am-r
 osenbrunnen-genuss-im-sommer/?vt=1'>Page détaillée </a>
END:VEVENT
END:VCALENDAR
