BEGIN:VCALENDAR
VERSION:2.0
PRODID:-//ok.edith-webco.de//NONSGML kigkonsult.se iCalcreator 2.41.92//
CALSCALE:GREGORIAN
METHOD:PUBLISH
UID:63363737-3732-4235-b835-633037393537
X-WR-TIMEZONE:Europe/Berlin
X-LIC-LOCATION:Europe/Berlin
BEGIN:VEVENT
UID:580809-kulturportal@ok.edith-webco.de
DTSTAMP:20260425T185610Z
DESCRIPTION:Kurzbeschreibung:\n Ein buntes Programm aus traditioneller und 
 moderner Blasmusik aus den unterschiedlichsten Musikrichtungen und Genres 
 wird geboten.\n Ort:\n Palais-Rohan\, Hof\n Rohanstraße 17\, 77955 Ettenhe
 im\n Veranstalter:\n Stadtkapelle Ettenheim\n Termin:\n Beginn: 25.07.2026
 \, 17:00 Uhr\n Ende: 25.07.2026\n Tickets:\n Eintritt frei!\n Link:\n Page
  détaillée
DTSTART;TZID=Europe/Berlin:20260725T170000
DTEND;TZID=Europe/Berlin:20260725T200000
LOCATION:Palais-Rohan\, Hof\, Rohanstraße 17\, 77955 Ettenheim
SUMMARY:Traditionelles Hofkonzert im Rohanhof\, Palais-Rohan\, Hof
X-ALT-DESC;FMTTYPE=text/html:<strong>Kurzbeschreibung:</strong><br/>Ein bun
 tes Programm aus traditioneller und moderner Blasmusik aus den unterschied
 lichsten Musikrichtungen und Genres wird geboten.<br /><strong>Ort:</stron
 g><br/>Palais-Rohan\, Hof<br/>Rohanstraße 17\, 77955 Ettenheim<br /><stron
 g>Veranstalter:</strong><br/>Stadtkapelle Ettenheim<br /><strong>Termin:</
 strong><br/>Beginn: 25.07.2026\, 17:00 Uhr<br/>Ende: 25.07.2026<br /><stro
 ng>Tickets: </strong><br/>Eintritt frei!<br /><strong>Link:</strong><br/><
 a href='https://ok.edith-webco.de/fr/evenements/detail/evenement/id/580809
 -traditionelles-hofkonzert-im-rohanhof/?vt=1'>Page détaillée </a>
END:VEVENT
END:VCALENDAR
