BEGIN:VCALENDAR
VERSION:2.0
PRODID:-//ok.edith-webco.de//NONSGML kigkonsult.se iCalcreator 2.41.92//
CALSCALE:GREGORIAN
METHOD:PUBLISH
UID:65666335-6564-4531-b561-343965616438
X-WR-TIMEZONE:Europe/Berlin
X-LIC-LOCATION:Europe/Berlin
BEGIN:VEVENT
UID:582801-kulturportal@ok.edith-webco.de
DTSTAMP:20260425T015915Z
DESCRIPTION:Kurzbeschreibung:\n Von Schlager über Pop und Rock bis hin zum 
 Musikklassiker. Samstag 19:30 und Sonntag 18:00 Uhr. Kartenvorverkauf: www
 .gitarrenverein-nordrach.de.\n Ort:\n Hansjakob-Halle\n Im Dorf 29\, 77787
  Nordrach\n Veranstalter:\n Gitarrenverein Nordrach\n Termin:\n Beginn: 07
 .11.2026\, 19:30 Uhr\n Ende: 07.11.2026\n Tickets:\n Tickets\n https://www
 .gitarrenverein-nordrach.de\n 8\,00 €\n Link:\n Page détaillée
DTSTART;TZID=Europe/Berlin:20261107T193000
DTEND;TZID=Europe/Berlin:20261107T223000
LOCATION:Hansjakob-Halle\, Im Dorf 29\, 77787 Nordrach
SUMMARY:Jahreskonzert  des Nordracher Gitarrenvereins.\, Hansjakob-Halle
X-ALT-DESC;FMTTYPE=text/html:<strong>Kurzbeschreibung:</strong><br/>Von Sch
 lager über Pop und Rock bis hin zum Musikklassiker. Samstag 19:30 und Sonn
 tag 18:00 Uhr. Kartenvorverkauf: www.gitarrenverein-nordrach.de. <br /><st
 rong>Ort:</strong><br/>Hansjakob-Halle<br/>Im Dorf 29\, 77787 Nordrach<br 
 /><strong>Veranstalter:</strong><br/>Gitarrenverein Nordrach<br /><strong>
 Termin:</strong><br/>Beginn: 07.11.2026\, 19:30 Uhr<br/>Ende: 07.11.2026<b
 r /><strong>Tickets: </strong><br/><a  class='wco_cb_subtitle_link'  id='t
 icketlink'  href='https://www.gitarrenverein-nordrach.de' target='_blank' 
 >Tickets</a><br/>https://www.gitarrenverein-nordrach.de<br/>8\,00 €<br /><
 strong>Link:</strong><br/><a href='https://ok.edith-webco.de/fr/evenements
 /detail/evenement/id/582801-jahreskonzert-des-nordracher-gitarrenvereins/?
 vt=1'>Page détaillée </a>
END:VEVENT
END:VCALENDAR
