BEGIN:VCALENDAR
VERSION:2.0
PRODID:-//ok.edith-webco.de//NONSGML kigkonsult.se iCalcreator 2.41.92//
CALSCALE:GREGORIAN
METHOD:PUBLISH
UID:36646564-3739-4232-a335-346139323730
X-WR-TIMEZONE:Europe/Berlin
X-LIC-LOCATION:Europe/Berlin
BEGIN:VEVENT
UID:583679-kulturportal@ok.edith-webco.de
DTSTAMP:20260425T032032Z
DESCRIPTION:Kurzbeschreibung:\n Freut Euch auf musikalische Sonntagabende v
 oller Jazz im Stiftsschaffneikeller!\n Ort:\n Stiftsschaffneikeller\n Frie
 drichstraße 7\, 77933 Lahr\n Veranstalter:\n KULTURKREIS LAHR e.V.\n Termi
 n:\n Beginn: 21.06.2026\, 18:00 Uhr\n Ende: 21.06.2026\n Tickets:\n Freier
  Eintritt\n Infos bei session@kollmercoaching.de\n Link:\n Page détaillée
DTSTART;TZID=Europe/Berlin:20260621T180000
DTEND;TZID=Europe/Berlin:20260621T210000
LOCATION:Stiftsschaffneikeller\, Friedrichstraße 7\, 77933 Lahr
SUMMARY:Jazz Session\, Stiftsschaffneikeller
X-ALT-DESC;FMTTYPE=text/html:<strong>Kurzbeschreibung:</strong><br/>Freut E
 uch auf musikalische Sonntagabende voller Jazz im Stiftsschaffneikeller!<b
 r /><strong>Ort:</strong><br/>Stiftsschaffneikeller<br/>Friedrichstraße 7\
 , 77933 Lahr<br /><strong>Veranstalter:</strong><br/>KULTURKREIS LAHR e.V.
 <br /><strong>Termin:</strong><br/>Beginn: 21.06.2026\, 18:00 Uhr<br/>Ende
 : 21.06.2026<br /><strong>Tickets: </strong><br/>Freier Eintritt<br />\nIn
 fos bei session@kollmercoaching.de<br /><strong>Link:</strong><br/><a href
 ='https://ok.edith-webco.de/fr/evenements/detail/evenement/id/583679-jazz-
 session/?vt=1'>Page détaillée </a>
END:VEVENT
END:VCALENDAR
