BEGIN:VCALENDAR
VERSION:2.0
PRODID:-//ok.edith-webco.de//NONSGML kigkonsult.se iCalcreator 2.41.92//
CALSCALE:GREGORIAN
METHOD:PUBLISH
UID:31616162-6265-4262-b039-623634316132
X-WR-TIMEZONE:Europe/Berlin
X-LIC-LOCATION:Europe/Berlin
BEGIN:VEVENT
UID:584544-kulturportal@ok.edith-webco.de
DTSTAMP:20260426T004455Z
DESCRIPTION:Kurzbeschreibung:\n Live Musik von der Musikkapelle. Bewirtung 
 und gute Laune beim Feierabendhock.\n Ort:\n Rathausplatz Ettenheimmünster
 \n Münstertalstr. 13\, 77955 Ettenheimmünster\n Veranstalter:\n Musikverei
 n Ettenheimmünster e.V.\n Termin:\n Beginn: 17.07.2026\, 18:00 Uhr\n Ende:
  17.07.2026\n Link:\n Page détaillée
DTSTART;TZID=Europe/Berlin:20260717T180000
DTEND;TZID=Europe/Berlin:20260717T210000
LOCATION:Rathausplatz Ettenheimmünster\, Münstertalstr. 13\, 77955 Ettenhei
 mmünster
SUMMARY:Dämmerschoppen in Ettenheimmünster\, Rathausplatz Ettenheimmünster
X-ALT-DESC;FMTTYPE=text/html:<strong>Kurzbeschreibung:</strong><br/>Live Mu
 sik von der Musikkapelle. Bewirtung und gute Laune beim Feierabendhock. <b
 r /><strong>Ort:</strong><br/>Rathausplatz Ettenheimmünster<br/>Münstertal
 str. 13\, 77955 Ettenheimmünster<br /><strong>Veranstalter:</strong><br/>M
 usikverein Ettenheimmünster e.V.<br /><strong>Termin:</strong><br/>Beginn:
  17.07.2026\, 18:00 Uhr<br/>Ende: 17.07.2026<br /><strong>Link:</strong><b
 r/><a href='https://ok.edith-webco.de/fr/evenements/detail/evenement/id/58
 4544-daemmerschoppen-in-ettenheimmuenster/?vt=1'>Page détaillée </a>
END:VEVENT
END:VCALENDAR
