BEGIN:VCALENDAR
VERSION:2.0
PRODID:-//ok.edith-webco.de//NONSGML kigkonsult.se iCalcreator 2.41.92//
CALSCALE:GREGORIAN
METHOD:PUBLISH
UID:66633634-6238-4437-a434-393435343433
X-WR-TIMEZONE:Europe/Berlin
X-LIC-LOCATION:Europe/Berlin
BEGIN:VEVENT
UID:584545-kulturportal@ok.edith-webco.de
DTSTAMP:20260425T105936Z
DESCRIPTION:Kurzbeschreibung:\n Der Musikverein Ettenheimmünster lädt jährl
 ich zum Kirchenkonzert in die Wallfahrtskirche St. Landelin ein.\n Ort:\n 
 Wallfahrtskirche St. Landelin\n Münstertalstraße\, 77955 Ettenheim-Ettenhe
 immünster\n Veranstalter:\n Musikverein Ettenheimmünster e.V.\n Termin:\n 
 Beginn: 29.11.2026\, 17:00 Uhr\n Ende: 29.11.2026\n Link:\n Page détaillée
DTSTART;TZID=Europe/Berlin:20261129T170000
DTEND;TZID=Europe/Berlin:20261129T200000
LOCATION:Wallfahrtskirche St. Landelin\, Münstertalstraße\, 77955 Ettenheim
 -Ettenheimmünster
SUMMARY:Kirchenkonzert in Ettenheimmünster\, Wallfahrtskirche St. Landelin
X-ALT-DESC;FMTTYPE=text/html:<strong>Kurzbeschreibung:</strong><br/>Der Mus
 ikverein Ettenheimmünster lädt jährlich zum Kirchenkonzert in die Wallfahr
 tskirche St. Landelin ein.<br /><strong>Ort:</strong><br/>Wallfahrtskirche
  St. Landelin<br/>Münstertalstraße\, 77955 Ettenheim-Ettenheimmünster<br /
 ><strong>Veranstalter:</strong><br/>Musikverein Ettenheimmünster e.V.<br /
 ><strong>Termin:</strong><br/>Beginn: 29.11.2026\, 17:00 Uhr<br/>Ende: 29.
 11.2026<br /><strong>Link:</strong><br/><a href='https://ok.edith-webco.de
 /fr/evenements/detail/evenement/id/584545-kirchenkonzert-in-ettenheimmuens
 ter/?vt=1'>Page détaillée </a>
END:VEVENT
END:VCALENDAR
