BEGIN:VCALENDAR
VERSION:2.0
PRODID:-//ok.edith-webco.de//NONSGML kigkonsult.se iCalcreator 2.41.92//
CALSCALE:GREGORIAN
METHOD:PUBLISH
UID:31613431-6338-4431-b264-363036663130
X-WR-TIMEZONE:Europe/Berlin
X-LIC-LOCATION:Europe/Berlin
BEGIN:VEVENT
UID:585140-kulturportal@ok.edith-webco.de
DTSTAMP:20260424T233603Z
DESCRIPTION:Kurzbeschreibung:\n Nikita Volov spielt in der Stadthalle Stück
 e von Chopin\, Liszt\, Skrjabin und Rachmaninow\n Ort:\n Stadthalle am Nol
 len\n Nollenstr. 15\, 77723 Gengenbach\n Veranstalter:\n Weltklassik am Kl
 avier\n Termin:\n Beginn: 06.09.2026\, 17:00 Uhr\n Ende: 06.09.2026\n Tick
 ets:\n www.weltklassik.de\n https://www.weltklassik.de\n Link:\n Page déta
 illée
DTSTART;TZID=Europe/Berlin:20260906T170000
DTEND;TZID=Europe/Berlin:20260906T200000
LOCATION:Stadthalle am Nollen\, Nollenstr. 15\, 77723 Gengenbach
SUMMARY:Weltklassik am Klavier - Licht und Schatten der Romantik - Chopin u
 nd die Dante-Sonate!\, Stadthalle am Nollen
X-ALT-DESC;FMTTYPE=text/html:<strong>Kurzbeschreibung:</strong><br/>Nikita 
 Volov spielt in der Stadthalle Stücke von Chopin\, Liszt\, Skrjabin und Ra
 chmaninow<br /><strong>Ort:</strong><br/>Stadthalle am Nollen<br/>Nollenst
 r. 15\, 77723 Gengenbach<br /><strong>Veranstalter:</strong><br/>Weltklass
 ik am Klavier<br /><strong>Termin:</strong><br/>Beginn: 06.09.2026\, 17:00
  Uhr<br/>Ende: 06.09.2026<br /><strong>Tickets: </strong><br/><a  class='w
 co_cb_subtitle_link'  id='ticketlink'  href='https://www.weltklassik.de' t
 arget='_blank' title='Öffnet externen Link in einem neuen Fenster'>www.wel
 tklassik.de</a><br/>https://www.weltklassik.de<br /><strong>Link:</strong>
 <br/><a href='https://ok.edith-webco.de/fr/evenements/detail/evenement/id/
 585140-weltklassik-am-klavier-licht-und-schatten-der-romantik-chopin-und-d
 ie-dante-sonate/?vt=1'>Page détaillée </a>
END:VEVENT
END:VCALENDAR
