BEGIN:VCALENDAR
VERSION:2.0
PRODID:-//ok.edith-webco.de//NONSGML kigkonsult.se iCalcreator 2.41.92//
CALSCALE:GREGORIAN
METHOD:PUBLISH
UID:62633834-3036-4537-b233-613962373161
X-WR-TIMEZONE:Europe/Berlin
X-LIC-LOCATION:Europe/Berlin
BEGIN:VEVENT
UID:585142-kulturportal@ok.edith-webco.de
DTSTAMP:20260425T191349Z
DESCRIPTION:Kurzbeschreibung:\n Meryem Akdenizli spielt in der Stadthalle S
 tücke von Mozart\, Chaminade\, Ravel\, Hensel\, geb. Mendelssohn und Liszt
 \n Ort:\n Stadthalle am Nollen\n Nollenstr. 15\, 77723 Gengenbach\n Verans
 talter:\n Weltklassik am Klavier\n Termin:\n Beginn: 01.11.2026\, 17:00 Uh
 r\n Ende: 01.11.2026\n Tickets:\n www.weltklassik.de\n https://www.weltkla
 ssik.de\n Link:\n Page détaillée
DTSTART;TZID=Europe/Berlin:20261101T170000
DTEND;TZID=Europe/Berlin:20261101T200000
LOCATION:Stadthalle am Nollen\, Nollenstr. 15\, 77723 Gengenbach
SUMMARY:Weltklassik am Klavier - Erzählkonzert! Liszts Rhapsodie espagnole 
 und weitere Meisterwerke!\, Stadthalle am Nollen
X-ALT-DESC;FMTTYPE=text/html:<strong>Kurzbeschreibung:</strong><br/>Meryem 
 Akdenizli spielt in der Stadthalle Stücke von Mozart\, Chaminade\, Ravel\,
  Hensel\, geb. Mendelssohn und Liszt<br /><strong>Ort:</strong><br/>Stadth
 alle am Nollen<br/>Nollenstr. 15\, 77723 Gengenbach<br /><strong>Veranstal
 ter:</strong><br/>Weltklassik am Klavier<br /><strong>Termin:</strong><br/
 >Beginn: 01.11.2026\, 17:00 Uhr<br/>Ende: 01.11.2026<br /><strong>Tickets:
  </strong><br/><a  class='wco_cb_subtitle_link'  id='ticketlink'  href='ht
 tps://www.weltklassik.de' target='_blank' title='Öffnet externen Link in e
 inem neuen Fenster'>www.weltklassik.de</a><br/>https://www.weltklassik.de<
 br /><strong>Link:</strong><br/><a href='https://ok.edith-webco.de/fr/even
 ements/detail/evenement/id/585142-weltklassik-am-klavier-erzaehlkonzert-li
 szts-rhapsodie-espagnole-und-weitere-meisterwerke/?vt=1'>Page détaillée </
 a>
END:VEVENT
END:VCALENDAR
