BEGIN:VCALENDAR
VERSION:2.0
PRODID:-//ok.edith-webco.de//NONSGML kigkonsult.se iCalcreator 2.41.92//
CALSCALE:GREGORIAN
METHOD:PUBLISH
UID:61396462-6530-4633-b630-353737336165
X-WR-TIMEZONE:Europe/Berlin
X-LIC-LOCATION:Europe/Berlin
BEGIN:VEVENT
UID:585187-kulturportal@ok.edith-webco.de
DTSTAMP:20260425T135204Z
DESCRIPTION:Kurzbeschreibung:\n Virtuose Musik für Cello & Gitarre – „Das B
 este aus 30 Jahren“ Das Programm vereint Meisterwerke der klassischen Musi
 k mit funkelnden Farben der Weltmusik.\n Ort:\n Das Kulturhaus.\n Am Läger
  12\, 77694 Kehl\n Veranstalter:\n Konzertbüro Burstein & Legnani GbR\n Te
 rmin:\n Beginn: 15.10.2026\n Ende: 15.10.2026\n Tickets:\n Achat de billet
 s\n https://ortenaukultur.reservix.de/p/reservix/event/2502068\n 1. Katego
 rie:\n jusqu'à 28\,50 € + Réduction\n Rollstuhlfahrerplatz:\n 23\,00 €\n *
 Toute taxe comprise\n \n Link:\n Page détaillée
DTSTART;TZID=Europe/Berlin:20261015T000000
DTEND;TZID=Europe/Berlin:20261015T030000
LOCATION:Das Kulturhaus.\, Am Läger 12\, 77694 Kehl
SUMMARY:Jubiläumstournee 2026 - Duo Burstein & Legnani \, Das Kulturhaus.
X-ALT-DESC;FMTTYPE=text/html:<strong>Kurzbeschreibung:</strong><br/>Virtuos
 e Musik für Cello & Gitarre – „Das Beste aus 30 Jahren“ \nDas Programm ver
 eint Meisterwerke der klassischen Musik mit funkelnden Farben der Weltmusi
 k.<br /><strong>Ort:</strong><br/>Das Kulturhaus.<br/>Am Läger 12\, 77694 
 Kehl<br /><strong>Veranstalter:</strong><br/>Konzertbüro Burstein & Legnan
 i GbR<br /><strong>Termin:</strong><br/>Beginn: 15.10.2026<br/>Ende: 15.10
 .2026<br /><strong>Tickets: </strong><br/><a rel='asdf' href='https://ok.e
 dith-webco.de/fr/evenements/musique/detail/billets/id/585187-jubilaeumstou
 rnee-2026-duo-burstein-legnani/?follow=https%253A%252F%252Fortenaukultur.r
 eservix.de%252Fp%252Freservix%252Fevent%252F2502068' target='_blank' title
 ='' id='ticketlink'>Achat de billets</a><br/>https://ortenaukultur.reservi
 x.de/p/reservix/event/2502068<br/><b>1. Kategorie: </b><br />jusqu&#039\;à
  28\,50 &euro\;&nbsp\; + Réduction<br /><b>Rollstuhlfahrerplatz: </b><br /
 >23\,00 &euro\;<br />*Toute taxe comprise<br /><br /><strong>Link:</strong
 ><br/><a href='https://ok.edith-webco.de/fr/evenements/detail/evenement/id
 /585187-jubilaeumstournee-2026-duo-burstein-legnani/?vt=1'>Page détaillée 
 </a>
END:VEVENT
END:VCALENDAR
