BEGIN:VCALENDAR
VERSION:2.0
PRODID:-//ok.edith-webco.de//NONSGML kigkonsult.se iCalcreator 2.41.92//
CALSCALE:GREGORIAN
METHOD:PUBLISH
UID:39346330-3632-4564-b634-656333623461
X-WR-TIMEZONE:Europe/Berlin
X-LIC-LOCATION:Europe/Berlin
BEGIN:VEVENT
UID:585194-kulturportal@ok.edith-webco.de
DTSTAMP:20260426T033444Z
DESCRIPTION:Kurzbeschreibung:\n Freuen Sie sich auf eine großartiges Live-K
 onzert in der stimmungsvollen Kulisse des Prinzengartens.\n Ort:\n Prinzen
 garten\n Freiburger Straße\, 77955 Ettenheim\n Veranstalter:\n Amici Event
 s\n Termin:\n Beginn: 07.08.2026\, 19:00 Uhr\n Ende: 07.08.2026\n Link:\n 
 Page détaillée
DTSTART;TZID=Europe/Berlin:20260807T190000
DTEND;TZID=Europe/Berlin:20260807T220000
LOCATION:Prinzengarten\, Freiburger Straße\, 77955 Ettenheim
SUMMARY:Live-Konzert im Prinzengarten Ettenheim\, Prinzengarten
X-ALT-DESC;FMTTYPE=text/html:<strong>Kurzbeschreibung:</strong><br/>Freuen 
 Sie sich auf eine großartiges Live-Konzert in der stimmungsvollen Kulisse 
 des Prinzengartens.<br /><strong>Ort:</strong><br/>Prinzengarten<br/>Freib
 urger Straße\, 77955 Ettenheim<br /><strong>Veranstalter:</strong><br/>Ami
 ci Events<br /><strong>Termin:</strong><br/>Beginn: 07.08.2026\, 19:00 Uhr
 <br/>Ende: 07.08.2026<br /><strong>Link:</strong><br/><a href='https://ok.
 edith-webco.de/fr/evenements/detail/evenement/id/585194-live-konzert-im-pr
 inzengarten-ettenheim/?vt=1'>Page détaillée </a>
END:VEVENT
END:VCALENDAR
