BEGIN:VCALENDAR
VERSION:2.0
PRODID:-//ok.edith-webco.de//NONSGML kigkonsult.se iCalcreator 2.41.92//
CALSCALE:GREGORIAN
METHOD:PUBLISH
UID:37383432-3736-4066-a363-653232383835
X-WR-TIMEZONE:Europe/Berlin
X-LIC-LOCATION:Europe/Berlin
BEGIN:VEVENT
UID:585199-kulturportal@ok.edith-webco.de
DTSTAMP:20260425T221731Z
DESCRIPTION:Kurzbeschreibung:\n 200 Jahre Stadtkapelle – Jubiläumskonzert z
 um 200-jährigen Bestehen der Stadtkapelle\n Ort:\n Platz der Verfassungsfr
 eunde / Kulturforum\n Aenne-Burda-Allee\, 77654 Offenburg\n Veranstalter:
 \n Kulturbüro Offenburg\n Termin:\n Beginn: 25.07.2026\, 20:00 Uhr\n Ende:
  25.07.2026\n Tickets:\n Achat de billets\n https://ortenaukultur.reservix
 .de/p/reservix/event/2491563\n 1. Kategorie:\n jusqu'à 26\,30 € + Réductio
 n\n 2. Kategorie:\n jusqu'à 24\,10 € + Réduction\n 3. Kategorie:\n jusqu'à
  23\,00 € + Réduction\n *Toute taxe comprise\n \n Link:\n Page détaillée
DTSTART;TZID=Europe/Berlin:20260725T200000
DTEND;TZID=Europe/Berlin:20260725T230000
LOCATION:Platz der Verfassungsfreunde / Kulturforum\, Aenne-Burda-Allee\, 7
 7654 Offenburg
SUMMARY:Großes Jubiläumskonzert der Stadtkapelle Offenburg\, Platz der Verf
 assungsfreunde / Kulturforum
X-ALT-DESC;FMTTYPE=text/html:<strong>Kurzbeschreibung:</strong><br/>200 Jah
 re Stadtkapelle – Jubiläumskonzert zum 200-jährigen Bestehen der Stadtkape
 lle                                        <br /><strong>Ort:</strong><br/
 >Platz der Verfassungsfreunde / Kulturforum<br/>Aenne-Burda-Allee\, 77654 
 Offenburg<br /><strong>Veranstalter:</strong><br/>Kulturbüro Offenburg<br 
 /><strong>Termin:</strong><br/>Beginn: 25.07.2026\, 20:00 Uhr<br/>Ende: 25
 .07.2026<br /><strong>Tickets: </strong><br/><a rel='asdf' href='https://o
 k.edith-webco.de/fr/evenements/musique/detail/billets/id/585199-grosses-ju
 bilaeumskonzert-der-stadtkapelle-offenburg/?follow=https%253A%252F%252Fort
 enaukultur.reservix.de%252Fp%252Freservix%252Fevent%252F2491563' target='_
 blank' title='' id='ticketlink'>Achat de billets</a><br/>https://ortenauku
 ltur.reservix.de/p/reservix/event/2491563<br/><b>1. Kategorie: </b><br />j
 usqu&#039\;à 26\,30 &euro\;&nbsp\; + Réduction<br /><b>2. Kategorie: </b><
 br />jusqu&#039\;à 24\,10 &euro\;&nbsp\; + Réduction<br /><b>3. Kategorie:
  </b><br />jusqu&#039\;à 23\,00 &euro\;&nbsp\; + Réduction<br />*Toute tax
 e comprise<br /><br /><strong>Link:</strong><br/><a href='https://ok.edith
 -webco.de/fr/evenements/detail/evenement/id/585199-grosses-jubilaeumskonze
 rt-der-stadtkapelle-offenburg/?vt=1'>Page détaillée </a>
END:VEVENT
END:VCALENDAR
