BEGIN:VCALENDAR
VERSION:2.0
PRODID:-//ok.edith-webco.de//NONSGML kigkonsult.se iCalcreator 2.41.92//
CALSCALE:GREGORIAN
METHOD:PUBLISH
UID:65313734-6433-4430-b137-396262623831
X-WR-TIMEZONE:Europe/Berlin
X-LIC-LOCATION:Europe/Berlin
BEGIN:VEVENT
UID:585200-kulturportal@ok.edith-webco.de
DTSTAMP:20260425T011905Z
DESCRIPTION:Kurzbeschreibung:\n Eine mitreißende Fusion aus elektronischer 
 Musik und Jazz bei Offenburg feiert im Zelt\n Ort:\n Platz der Verfassungs
 freunde / Kulturforum\n Aenne-Burda-Allee\, 77654 Offenburg\n Veranstalter
 :\n Kulturbüro Offenburg\n Termin:\n Beginn: 24.07.2026\, 20:00 Uhr\n Ende
 : 24.07.2026\n Tickets:\n Achat de billets\n https://ortenaukultur.reservi
 x.de/p/reservix/event/2491560\n 1. Kategorie:\n jusqu'à 42\,80 € + Réducti
 on\n 2. Kategorie:\n jusqu'à 38\,40 € + Réduction\n 3. Kategorie:\n jusqu'
 à 34\,00 € + Réduction\n *Toute taxe comprise\n \n Link:\n Page détaillée
DTSTART;TZID=Europe/Berlin:20260724T200000
DTEND;TZID=Europe/Berlin:20260724T230000
LOCATION:Platz der Verfassungsfreunde / Kulturforum\, Aenne-Burda-Allee\, 7
 7654 Offenburg
SUMMARY:Jazzrausch Bigband – Bangers Only!\, Platz der Verfassungsfreunde /
  Kulturforum
X-ALT-DESC;FMTTYPE=text/html:<strong>Kurzbeschreibung:</strong><br/>Eine mi
 treißende Fusion aus elektronischer Musik und Jazz bei Offenburg feiert im
  Zelt \n<br /><strong>Ort:</strong><br/>Platz der Verfassungsfreunde / Kul
 turforum<br/>Aenne-Burda-Allee\, 77654 Offenburg<br /><strong>Veranstalter
 :</strong><br/>Kulturbüro Offenburg<br /><strong>Termin:</strong><br/>Begi
 nn: 24.07.2026\, 20:00 Uhr<br/>Ende: 24.07.2026<br /><strong>Tickets: </st
 rong><br/><a rel='asdf' href='https://ok.edith-webco.de/fr/evenements/musi
 que/detail/billets/id/585200-jazzrausch-bigband-bangers-only/?follow=https
 %253A%252F%252Fortenaukultur.reservix.de%252Fp%252Freservix%252Fevent%252F
 2491560' target='_blank' title='' id='ticketlink'>Achat de billets</a><br/
 >https://ortenaukultur.reservix.de/p/reservix/event/2491560<br/><b>1. Kate
 gorie: </b><br />jusqu&#039\;à 42\,80 &euro\;&nbsp\; + Réduction<br /><b>2
 . Kategorie: </b><br />jusqu&#039\;à 38\,40 &euro\;&nbsp\; + Réduction<br 
 /><b>3. Kategorie: </b><br />jusqu&#039\;à 34\,00 &euro\;&nbsp\; + Réducti
 on<br />*Toute taxe comprise<br /><br /><strong>Link:</strong><br/><a href
 ='https://ok.edith-webco.de/fr/evenements/detail/evenement/id/585200-jazzr
 ausch-bigband-bangers-only/?vt=1'>Page détaillée </a>
END:VEVENT
END:VCALENDAR
