BEGIN:VCALENDAR
VERSION:2.0
PRODID:-//ok.edith-webco.de//NONSGML kigkonsult.se iCalcreator 2.41.92//
CALSCALE:GREGORIAN
METHOD:PUBLISH
UID:36663936-3438-4334-a163-343039633139
X-WR-TIMEZONE:Europe/Berlin
X-LIC-LOCATION:Europe/Berlin
BEGIN:VEVENT
UID:585201-kulturportal@ok.edith-webco.de
DTSTAMP:20260425T154022Z
DESCRIPTION:Kurzbeschreibung:\n Eine tänzerische Zeitreise durch die schill
 ernde Traumfabrik Hollywood\n Ort:\n Platz der Verfassungsfreunde / Kultur
 forum\n Aenne-Burda-Allee\, 77654 Offenburg\n Veranstalter:\n Kulturbüro O
 ffenburg\n Termin:\n Beginn: 23.07.2026\, 20:00 Uhr\n Ende: 23.07.2026\n T
 ickets:\n Achat de billets\n https://ortenaukultur.reservix.de/p/reservix/
 event/2491558\n 1. Kategorie:\n jusqu'à 42\,80 € + Réduction\n 2. Kategori
 e:\n jusqu'à 38\,40 € + Réduction\n 3. Kategorie:\n jusqu'à 34\,00 € + Réd
 uction\n *Toute taxe comprise\n \n Link:\n Page détaillée
DTSTART;TZID=Europe/Berlin:20260723T200000
DTEND;TZID=Europe/Berlin:20260723T230000
LOCATION:Platz der Verfassungsfreunde / Kulturforum\, Aenne-Burda-Allee\, 7
 7654 Offenburg
SUMMARY:M.A.K. Company – Movie Night\, Platz der Verfassungsfreunde / Kultu
 rforum
X-ALT-DESC;FMTTYPE=text/html:<strong>Kurzbeschreibung:</strong><br/>Eine tä
 nzerische Zeitreise durch die schillernde Traumfabrik Hollywood           
                              <br /><strong>Ort:</strong><br/>Platz der Ver
 fassungsfreunde / Kulturforum<br/>Aenne-Burda-Allee\, 77654 Offenburg<br /
 ><strong>Veranstalter:</strong><br/>Kulturbüro Offenburg<br /><strong>Term
 in:</strong><br/>Beginn: 23.07.2026\, 20:00 Uhr<br/>Ende: 23.07.2026<br />
 <strong>Tickets: </strong><br/><a rel='asdf' href='https://ok.edith-webco.
 de/fr/evenements/musique/detail/billets/id/585201-m-a-k-company-movie-nigh
 t/?follow=https%253A%252F%252Fortenaukultur.reservix.de%252Fp%252Freservix
 %252Fevent%252F2491558' target='_blank' title='' id='ticketlink'>Achat de 
 billets</a><br/>https://ortenaukultur.reservix.de/p/reservix/event/2491558
 <br/><b>1. Kategorie: </b><br />jusqu&#039\;à 42\,80 &euro\;&nbsp\; + Rédu
 ction<br /><b>2. Kategorie: </b><br />jusqu&#039\;à 38\,40 &euro\;&nbsp\; 
 + Réduction<br /><b>3. Kategorie: </b><br />jusqu&#039\;à 34\,00 &euro\;&n
 bsp\; + Réduction<br />*Toute taxe comprise<br /><br /><strong>Link:</stro
 ng><br/><a href='https://ok.edith-webco.de/fr/evenements/detail/evenement/
 id/585201-m-a-k-company-movie-night/?vt=1'>Page détaillée </a>
END:VEVENT
END:VCALENDAR
