BEGIN:VCALENDAR
VERSION:2.0
PRODID:-//ok.edith-webco.de//NONSGML kigkonsult.se iCalcreator 2.41.92//
CALSCALE:GREGORIAN
METHOD:PUBLISH
UID:61636566-3862-4037-a364-643666653363
X-WR-TIMEZONE:Europe/Berlin
X-LIC-LOCATION:Europe/Berlin
BEGIN:VEVENT
UID:585248-kulturportal@ok.edith-webco.de
DTSTAMP:20260425T004059Z
DESCRIPTION:Kurzbeschreibung:\n Auch 2026 tourt Philipp Poisel Solo mit sei
 nen Adventskonzerten durch einige der schönsten Konzertsäle.\n Ort:\n Park
 theater\n Kaiserstraße 107\, 77933 Lahr\n Veranstalter:\n LahrKultur\n Ter
 min:\n Beginn: 11.12.2026\, 20:00 Uhr\n Ende: 11.12.2026\n Tickets:\n Acha
 t de billets\n https://ortenaukultur.reservix.de/p/reservix/event/2499909
 \n 1. Kategorie:\n 74\,60 €\n 2. Kategorie:\n 63\,10 €\n 3. Kategorie:\n 5
 1\,60 €\n 4. Kategorie:\n 40\,10 €\n *Toute taxe comprise\n \n Link:\n Pag
 e détaillée
DTSTART;TZID=Europe/Berlin:20261211T200000
DTEND;TZID=Europe/Berlin:20261211T230000
LOCATION:Parktheater\, Kaiserstraße 107\, 77933 Lahr
SUMMARY:Philipp Poisel Solo - Adventskonzert\, Parktheater
X-ALT-DESC;FMTTYPE=text/html:<strong>Kurzbeschreibung:</strong><br/>Auch 20
 26 tourt Philipp Poisel Solo mit seinen Adventskonzerten durch einige der 
 schönsten Konzertsäle.<br /><strong>Ort:</strong><br/>Parktheater<br/>Kais
 erstraße 107\, 77933 Lahr<br /><strong>Veranstalter:</strong><br/>LahrKult
 ur<br /><strong>Termin:</strong><br/>Beginn: 11.12.2026\, 20:00 Uhr<br/>En
 de: 11.12.2026<br /><strong>Tickets: </strong><br/><a rel='asdf' href='htt
 ps://ok.edith-webco.de/fr/evenements/musique/detail/billets/id/585248-phil
 ipp-poisel-solo-adventskonzert/?follow=https%253A%252F%252Fortenaukultur.r
 eservix.de%252Fp%252Freservix%252Fevent%252F2499909' target='_blank' title
 ='' id='ticketlink'>Achat de billets</a><br/>https://ortenaukultur.reservi
 x.de/p/reservix/event/2499909<br/><b>1. Kategorie: </b><br />74\,60 &euro\
 ;<br /><b>2. Kategorie: </b><br />63\,10 &euro\;<br /><b>3. Kategorie: </b
 ><br />51\,60 &euro\;<br /><b>4. Kategorie: </b><br />40\,10 &euro\;<br />
 *Toute taxe comprise<br /><br /><strong>Link:</strong><br/><a href='https:
 //ok.edith-webco.de/fr/evenements/detail/evenement/id/585248-philipp-poise
 l-solo-adventskonzert/?vt=1'>Page détaillée </a>
END:VEVENT
END:VCALENDAR
