BEGIN:VCALENDAR
VERSION:2.0
PRODID:-//ok.edith-webco.de//NONSGML kigkonsult.se iCalcreator 2.41.92//
CALSCALE:GREGORIAN
METHOD:PUBLISH
UID:33643536-6132-4031-b864-316530643831
X-WR-TIMEZONE:Europe/Berlin
X-LIC-LOCATION:Europe/Berlin
BEGIN:VEVENT
UID:585391-kulturportal@ok.edith-webco.de
DTSTAMP:20260425T232117Z
DESCRIPTION:Kurzbeschreibung:\n Als Hommage an Philip Glass\, der 2027 sein
 en 90. Geburtstag feiern wird\, hat der Akkordeonstar Martynas Levickis ei
 n sehr persönliches Programm zusammengestellt\n Ort:\n Parktheater\n Kaise
 rstraße 107\, 77933 Lahr\n Veranstalter:\n LahrKultur\n Termin:\n Beginn: 
 17.02.2027\, 20:00 Uhr\n Ende: 17.02.2027\n Tickets:\n Achat de billets\n 
 https://ortenaukultur.reservix.de/p/reservix/event/2542337\n 1. Platz:\n j
 usqu'à 28\,50 € + Réduction\n 2. Platz:\n jusqu'à 28\,50 € + Réduction\n 3
 . Platz:\n jusqu'à 20\,80 € + Réduction\n 4. Platz:\n jusqu'à 16\,40 € + R
 éduction\n *Toute taxe comprise\n \n Link:\n Page détaillée
DTSTART;TZID=Europe/Berlin:20270217T200000
DTEND;TZID=Europe/Berlin:20270217T230000
LOCATION:Parktheater\, Kaiserstraße 107\, 77933 Lahr
SUMMARY:Stuttgarter Kammerorchester \, Parktheater
X-ALT-DESC;FMTTYPE=text/html:<strong>Kurzbeschreibung:</strong><br/>Als Hom
 mage an Philip Glass\, der 2027 seinen 90. Geburtstag feiern wird\, hat de
 r Akkordeonstar Martynas Levickis ein sehr persönliches Programm zusammeng
 estellt<br /><strong>Ort:</strong><br/>Parktheater<br/>Kaiserstraße 107\, 
 77933 Lahr<br /><strong>Veranstalter:</strong><br/>LahrKultur<br /><strong
 >Termin:</strong><br/>Beginn: 17.02.2027\, 20:00 Uhr<br/>Ende: 17.02.2027<
 br /><strong>Tickets: </strong><br/><a rel='asdf' href='https://ok.edith-w
 ebco.de/fr/evenements/musique/detail/billets/id/585391-stuttgarter-kammero
 rchester/?follow=https%253A%252F%252Fortenaukultur.reservix.de%252Fp%252Fr
 eservix%252Fevent%252F2542337' target='_blank' title='' id='ticketlink'>Ac
 hat de billets</a><br/>https://ortenaukultur.reservix.de/p/reservix/event/
 2542337<br/><b>1. Platz: </b><br />jusqu&#039\;à 28\,50 &euro\;&nbsp\; + R
 éduction<br /><b>2. Platz: </b><br />jusqu&#039\;à 28\,50 &euro\;&nbsp\; +
  Réduction<br /><b>3. Platz: </b><br />jusqu&#039\;à 20\,80 &euro\;&nbsp\;
  + Réduction<br /><b>4. Platz: </b><br />jusqu&#039\;à 16\,40 &euro\;&nbsp
 \; + Réduction<br />*Toute taxe comprise<br /><br /><strong>Link:</strong>
 <br/><a href='https://ok.edith-webco.de/fr/evenements/detail/evenement/id/
 585391-stuttgarter-kammerorchester/?vt=1'>Page détaillée </a>
END:VEVENT
END:VCALENDAR
