BEGIN:VCALENDAR
VERSION:2.0
PRODID:-//ok.edith-webco.de//NONSGML kigkonsult.se iCalcreator 2.41.92//
CALSCALE:GREGORIAN
METHOD:PUBLISH
UID:36383938-3465-4933-b261-666134393338
X-WR-TIMEZONE:Europe/Berlin
X-LIC-LOCATION:Europe/Berlin
BEGIN:VEVENT
UID:585796-kulturportal@ok.edith-webco.de
DTSTAMP:20260425T175856Z
DESCRIPTION:Kurzbeschreibung:\n ROB NOTES steht für handgemachte Musik\, üb
 erzeugend und mitreißend und verspricht einen genussvollen Abend\n Ort:\n 
 Bürgerpark\n Im Dorf 26\, 77787 Nordrach\n Veranstalter:\n Touristen-Infor
 mation Nordrach\n Termin:\n Beginn: 26.06.2026\n Ende: 26.06.2026\n Link:
 \n Page détaillée
DTSTART;TZID=Europe/Berlin:20260626T000000
DTEND;TZID=Europe/Berlin:20260626T030000
LOCATION:Bürgerpark\, Im Dorf 26\, 77787 Nordrach
SUMMARY:Musik im Park - 'Heimspiel' ROB NOTES\, Bürgerpark
X-ALT-DESC;FMTTYPE=text/html:<strong>Kurzbeschreibung:</strong><br/>ROB NOT
 ES steht für handgemachte Musik\, überzeugend und mitreißend und versprich
 t einen genussvollen Abend<br /><strong>Ort:</strong><br/>Bürgerpark<br/>I
 m Dorf 26\, 77787 Nordrach<br /><strong>Veranstalter:</strong><br/>Tourist
 en-Information Nordrach<br /><strong>Termin:</strong><br/>Beginn: 26.06.20
 26<br/>Ende: 26.06.2026<br /><strong>Link:</strong><br/><a href='https://o
 k.edith-webco.de/fr/evenements/detail/evenement/id/585796-musik-im-park-he
 imspiel-rob-notes/?vt=1'>Page détaillée </a>
END:VEVENT
END:VCALENDAR
