BEGIN:VCALENDAR
VERSION:2.0
PRODID:-//ok.edith-webco.de//NONSGML kigkonsult.se iCalcreator 2.41.92//
CALSCALE:GREGORIAN
METHOD:PUBLISH
UID:35366563-3261-4633-b135-613463393134
X-WR-TIMEZONE:Europe/Berlin
X-LIC-LOCATION:Europe/Berlin
BEGIN:VEVENT
UID:586115-kulturportal@ok.edith-webco.de
DTSTAMP:20260425T004050Z
DESCRIPTION:Kurzbeschreibung:\n Verwandlungen - Metamorphosen\, Paraphrasen
  Solistin: Ying Li\, Piano Dirigent: Jonathan Darlington\n Ort:\n Parkthea
 ter\n Kaiserstraße 107\, 77933 Lahr\n Veranstalter:\n LahrKultur\n Termin:
 \n Beginn: 18.11.2026\, 20:00 Uhr\n Ende: 18.11.2026\n Tickets:\n Achat de
  billets\n https://ortenaukultur.reservix.de/p/reservix/event/2542335\n 1.
  Platz:\n jusqu'à 28\,50 € + Réduction\n 2. Platz:\n jusqu'à 28\,50 € + Ré
 duction\n 3. Platz:\n jusqu'à 20\,80 € + Réduction\n 4. Platz:\n jusqu'à 1
 6\,40 € + Réduction\n *Toute taxe comprise\n \n Link:\n Page détaillée
DTSTART;TZID=Europe/Berlin:20261118T200000
DTEND;TZID=Europe/Berlin:20261118T230000
LOCATION:Parktheater\, Kaiserstraße 107\, 77933 Lahr
SUMMARY:Nürnberger Symphoniker\, Parktheater
X-ALT-DESC;FMTTYPE=text/html:<strong>Kurzbeschreibung:</strong><br/>Verwand
 lungen - Metamorphosen\, Paraphrasen\nSolistin: Ying Li\, Piano\nDirigent:
  Jonathan Darlington<br /><strong>Ort:</strong><br/>Parktheater<br/>Kaiser
 straße 107\, 77933 Lahr<br /><strong>Veranstalter:</strong><br/>LahrKultur
 <br /><strong>Termin:</strong><br/>Beginn: 18.11.2026\, 20:00 Uhr<br/>Ende
 : 18.11.2026<br /><strong>Tickets: </strong><br/><a rel='asdf' href='https
 ://ok.edith-webco.de/fr/evenements/musique/detail/billets/id/586115-nuernb
 erger-symphoniker/?follow=https%253A%252F%252Fortenaukultur.reservix.de%25
 2Fp%252Freservix%252Fevent%252F2542335' target='_blank' title='' id='ticke
 tlink'>Achat de billets</a><br/>https://ortenaukultur.reservix.de/p/reserv
 ix/event/2542335<br/><b>1. Platz: </b><br />jusqu&#039\;à 28\,50 &euro\;&n
 bsp\; + Réduction<br /><b>2. Platz: </b><br />jusqu&#039\;à 28\,50 &euro\;
 &nbsp\; + Réduction<br /><b>3. Platz: </b><br />jusqu&#039\;à 20\,80 &euro
 \;&nbsp\; + Réduction<br /><b>4. Platz: </b><br />jusqu&#039\;à 16\,40 &eu
 ro\;&nbsp\; + Réduction<br />*Toute taxe comprise<br /><br /><strong>Link:
 </strong><br/><a href='https://ok.edith-webco.de/fr/evenements/detail/even
 ement/id/586115-nuernberger-symphoniker/?vt=1'>Page détaillée </a>
END:VEVENT
END:VCALENDAR
