BEGIN:VCALENDAR
VERSION:2.0
PRODID:-//ok.edith-webco.de//NONSGML kigkonsult.se iCalcreator 2.41.92//
CALSCALE:GREGORIAN
METHOD:PUBLISH
UID:34373362-3066-4238-a264-323933303332
X-WR-TIMEZONE:Europe/Berlin
X-LIC-LOCATION:Europe/Berlin
BEGIN:VEVENT
UID:586117-kulturportal@ok.edith-webco.de
DTSTAMP:20260425T112158Z
DESCRIPTION:Kurzbeschreibung:\n Die Stadtkapelle Oppenau eröffnet die Somme
 rkonzertsaison im Musikpavillon im Oberen Stadtpark.\n Ort:\n Rathausplatz
 \n Stadtgartenweg\, 77728 Oppenau\n Veranstalter:\n Kulturbüro Oppenau\n T
 ermin:\n Beginn: 25.06.2026\, 20:00 Uhr\n Ende: 25.06.2026\n Tickets:\n Ei
 ntritt frei!\n Link:\n Page détaillée
DTSTART;TZID=Europe/Berlin:20260625T200000
DTEND;TZID=Europe/Berlin:20260625T230000
LOCATION:Rathausplatz\, Stadtgartenweg\, 77728 Oppenau
SUMMARY:Eröffnungskonzert im Oberen Stadtpark\, Musikpavillon im Oberen Sta
 dtpark
X-ALT-DESC;FMTTYPE=text/html:<strong>Kurzbeschreibung:</strong><br/>Die Sta
 dtkapelle Oppenau eröffnet die Sommerkonzertsaison im Musikpavillon im Obe
 ren Stadtpark.<br /><strong>Ort:</strong><br/>Rathausplatz<br/>Stadtgarten
 weg\, 77728 Oppenau<br /><strong>Veranstalter:</strong><br/>Kulturbüro Opp
 enau<br /><strong>Termin:</strong><br/>Beginn: 25.06.2026\, 20:00 Uhr<br/>
 Ende: 25.06.2026<br /><strong>Tickets: </strong><br/>Eintritt frei!<br /><
 strong>Link:</strong><br/><a href='https://ok.edith-webco.de/fr/evenements
 /detail/evenement/id/586117-eroeffnungskonzert-im-oberen-stadtpark/?vt=1'>
 Page détaillée </a>
END:VEVENT
END:VCALENDAR
