BEGIN:VCALENDAR
VERSION:2.0
PRODID:-//ok.edith-webco.de//NONSGML kigkonsult.se iCalcreator 2.41.92//
CALSCALE:GREGORIAN
METHOD:PUBLISH
UID:30613932-3463-4538-a461-386233313334
X-WR-TIMEZONE:Europe/Berlin
X-LIC-LOCATION:Europe/Berlin
BEGIN:VEVENT
UID:586123-kulturportal@ok.edith-webco.de
DTSTAMP:20260425T183729Z
DESCRIPTION:Kurzbeschreibung:\n La Vie en Piaf Solisten: Vladimir Kornéev\,
  Gesang und Markus Syperek\, Piano Dirigent: Ernst Theis\n Ort:\n Parkthea
 ter\n Kaiserstraße 107\, 77933 Lahr\n Veranstalter:\n LahrKultur\n Termin:
 \n Beginn: 28.04.2027\, 20:00 Uhr\n Ende: 28.04.2027\n Tickets:\n Achat de
  billets\n https://ortenaukultur.reservix.de/p/reservix/event/2542342\n 1.
  Platz:\n jusqu'à 28\,50 € + Réduction\n 2. Platz:\n jusqu'à 28\,50 € + Ré
 duction\n 3. Platz:\n jusqu'à 20\,80 € + Réduction\n 4. Platz:\n jusqu'à 1
 6\,40 € + Réduction\n *Toute taxe comprise\n \n Link:\n Page détaillée
DTSTART;TZID=Europe/Berlin:20270428T200000
DTEND;TZID=Europe/Berlin:20270428T230000
LOCATION:Parktheater\, Kaiserstraße 107\, 77933 Lahr
SUMMARY:Württembergische Philharmonie Reutlingen\, Parktheater
X-ALT-DESC;FMTTYPE=text/html:<strong>Kurzbeschreibung:</strong><br/>La Vie 
 en Piaf\nSolisten: Vladimir Kornéev\, Gesang und Markus Syperek\, Piano\nD
 irigent: Ernst Theis<br /><strong>Ort:</strong><br/>Parktheater<br/>Kaiser
 straße 107\, 77933 Lahr<br /><strong>Veranstalter:</strong><br/>LahrKultur
 <br /><strong>Termin:</strong><br/>Beginn: 28.04.2027\, 20:00 Uhr<br/>Ende
 : 28.04.2027<br /><strong>Tickets: </strong><br/><a rel='asdf' href='https
 ://ok.edith-webco.de/fr/evenements/musique/detail/billets/id/586123-wuertt
 embergische-philharmonie-reutlingen/?follow=https%253A%252F%252Fortenaukul
 tur.reservix.de%252Fp%252Freservix%252Fevent%252F2542342' target='_blank' 
 title='' id='ticketlink'>Achat de billets</a><br/>https://ortenaukultur.re
 servix.de/p/reservix/event/2542342<br/><b>1. Platz: </b><br />jusqu&#039\;
 à 28\,50 &euro\;&nbsp\; + Réduction<br /><b>2. Platz: </b><br />jusqu&#039
 \;à 28\,50 &euro\;&nbsp\; + Réduction<br /><b>3. Platz: </b><br />jusqu&#0
 39\;à 20\,80 &euro\;&nbsp\; + Réduction<br /><b>4. Platz: </b><br />jusqu&
 #039\;à 16\,40 &euro\;&nbsp\; + Réduction<br />*Toute taxe comprise<br /><
 br /><strong>Link:</strong><br/><a href='https://ok.edith-webco.de/fr/even
 ements/detail/evenement/id/586123-wuerttembergische-philharmonie-reutlinge
 n/?vt=1'>Page détaillée </a>
END:VEVENT
END:VCALENDAR
