BEGIN:VCALENDAR
VERSION:2.0
PRODID:-//ok.edith-webco.de//NONSGML kigkonsult.se iCalcreator 2.41.92//
CALSCALE:GREGORIAN
METHOD:PUBLISH
UID:32326565-6165-4632-b433-636130333339
X-WR-TIMEZONE:Europe/Berlin
X-LIC-LOCATION:Europe/Berlin
BEGIN:VEVENT
UID:586124-kulturportal@ok.edith-webco.de
DTSTAMP:20260426T001535Z
DESCRIPTION:Kurzbeschreibung:\n Das dritte Sommerkonzert bestreitet traditi
 onell die Jugend der Stadtkapelle.\n Ort:\n Musikpavillon im Oberen Stadtp
 ark\n Stadtgartenweg\, 77728 Oppenau\n Veranstalter:\n Kulturbüro Oppenau
 \n Termin:\n Beginn: 16.07.2026\, 19:00 Uhr\n Ende: 16.07.2026\n Tickets:
 \n Eintritt frei\n Link:\n Page détaillée
DTSTART;TZID=Europe/Berlin:20260716T190000
DTEND;TZID=Europe/Berlin:20260716T220000
LOCATION:Musikpavillon im Oberen Stadtpark\, Stadtgartenweg\, 77728 Oppenau
SUMMARY:Sommerkonzert der Stadtkapelle Oppenau\, Musikpavillon im Oberen St
 adtpark
X-ALT-DESC;FMTTYPE=text/html:<strong>Kurzbeschreibung:</strong><br/>Das dri
 tte Sommerkonzert bestreitet traditionell die Jugend der Stadtkapelle.<br 
 /><strong>Ort:</strong><br/>Musikpavillon im Oberen Stadtpark<br/>Stadtgar
 tenweg\, 77728 Oppenau<br /><strong>Veranstalter:</strong><br/>Kulturbüro 
 Oppenau<br /><strong>Termin:</strong><br/>Beginn: 16.07.2026\, 19:00 Uhr<b
 r/>Ende: 16.07.2026<br /><strong>Tickets: </strong><br/>Eintritt frei<br /
 ><strong>Link:</strong><br/><a href='https://ok.edith-webco.de/fr/evenemen
 ts/detail/evenement/id/586124-sommerkonzert-der-stadtkapelle-oppenau/?vt=1
 '>Page détaillée </a>
END:VEVENT
END:VCALENDAR
