BEGIN:VCALENDAR
VERSION:2.0
PRODID:-//ok.edith-webco.de//NONSGML kigkonsult.se iCalcreator 2.41.92//
CALSCALE:GREGORIAN
METHOD:PUBLISH
UID:65613433-6364-4866-b165-623039383262
X-WR-TIMEZONE:Europe/Berlin
X-LIC-LOCATION:Europe/Berlin
BEGIN:VEVENT
UID:588301-kulturportal@ok.edith-webco.de
DTSTAMP:20260425T230249Z
DESCRIPTION:Kurzbeschreibung:\n Suiten für Violoncello solo von Johann Seba
 stian Bach im Schloss zu Altdorf\n Ort:\n Rad Schulz GmbH\, Stückle-Str. 1
 3\, Verkaufsraum\n Schmieheimer Straße 37\, 77955 Ettenheim-Altdorf\n Vera
 nstalter:\n Musikfreunde Ettenheim e.V.\n Termin:\n Beginn: 21.06.2026\, 1
 1:00 Uhr\n Ende: 21.06.2026\n Link:\n Page détaillée
DTSTART;TZID=Europe/Berlin:20260621T110000
DTEND;TZID=Europe/Berlin:20260621T140000
LOCATION:Rad Schulz GmbH\, Stückle-Str. 13\, Verkaufsraum \, Schmieheimer S
 traße 37\, 77955 Ettenheim-Altdorf
SUMMARY:Sommerlicher Bach\, Bibliothek im Schloss zu Altdorf
X-ALT-DESC;FMTTYPE=text/html:<strong>Kurzbeschreibung:</strong><br/>Suiten 
 für Violoncello solo von Johann Sebastian Bach im Schloss zu Altdorf<br />
 <strong>Ort:</strong><br/>Rad Schulz GmbH\, Stückle-Str. 13\, Verkaufsraum
  <br/>Schmieheimer Straße 37\, 77955 Ettenheim-Altdorf<br /><strong>Verans
 talter:</strong><br/>Musikfreunde Ettenheim e.V.<br /><strong>Termin:</str
 ong><br/>Beginn: 21.06.2026\, 11:00 Uhr<br/>Ende: 21.06.2026<br /><strong>
 Link:</strong><br/><a href='https://ok.edith-webco.de/fr/evenements/detail
 /evenement/id/588301-sommerlicher-bach/?vt=1'>Page détaillée </a>
END:VEVENT
END:VCALENDAR
