BEGIN:VCALENDAR
VERSION:2.0
PRODID:-//ok.edith-webco.de//NONSGML kigkonsult.se iCalcreator 2.41.92//
CALSCALE:GREGORIAN
METHOD:PUBLISH
UID:63663161-3733-4463-b131-636539356639
X-WR-TIMEZONE:Europe/Berlin
X-LIC-LOCATION:Europe/Berlin
BEGIN:VEVENT
UID:588490-kulturportal@ok.edith-webco.de
DTSTAMP:20260425T010145Z
DESCRIPTION:Kurzbeschreibung:\n Volksliedersingen für JederMann/Frau. Gemei
 nsam werden altbekannten Lieder angestimmt mit Akkordeonbegleitung.\n Ort:
 \n Gasthaus Hubertus\n Dorf 2\, 77784 Oberharmersbach\n Veranstalter:\n Vo
 lkslieder Singkreis\n Termin:\n Beginn: 28.08.2026\, 17:00 Uhr\n Ende: 28.
 08.2026\n Tickets:\n Eintritt frei!\n Link:\n Page détaillée
DTSTART;TZID=Europe/Berlin:20260828T170000
DTEND;TZID=Europe/Berlin:20260828T200000
LOCATION:Gasthaus Hubertus\, Dorf 2\, 77784 Oberharmersbach
SUMMARY:Volksliedersingen im Gasthaus Hubertus\, Gasthaus Hubertus
X-ALT-DESC;FMTTYPE=text/html:<strong>Kurzbeschreibung:</strong><br/>Volksli
 edersingen für JederMann/Frau. Gemeinsam werden altbekannten Lieder angest
 immt mit Akkordeonbegleitung.<br /><strong>Ort:</strong><br/>Gasthaus Hube
 rtus<br/>Dorf 2\, 77784 Oberharmersbach<br /><strong>Veranstalter:</strong
 ><br/>Volkslieder Singkreis<br /><strong>Termin:</strong><br/>Beginn: 28.0
 8.2026\, 17:00 Uhr<br/>Ende: 28.08.2026<br /><strong>Tickets: </strong><br
 />Eintritt frei!<br /><strong>Link:</strong><br/><a href='https://ok.edith
 -webco.de/fr/evenements/detail/evenement/id/588490-volksliedersingen-im-ga
 sthaus-hubertus/?vt=1'>Page détaillée </a>
END:VEVENT
END:VCALENDAR
