BEGIN:VCALENDAR
VERSION:2.0
PRODID:-//ok.edith-webco.de//NONSGML kigkonsult.se iCalcreator 2.41.92//
CALSCALE:GREGORIAN
METHOD:PUBLISH
UID:35633236-3638-4839-b564-326631616638
X-WR-TIMEZONE:Europe/Berlin
X-LIC-LOCATION:Europe/Berlin
BEGIN:VEVENT
UID:588491-kulturportal@ok.edith-webco.de
DTSTAMP:20260425T155618Z
DESCRIPTION:Kurzbeschreibung:\n Volksliedersingen für JederMann/Frau. Gemei
 nsam werden altbekannten Lieder angestimmt mit Akkordeonbegleitung.\n Ort:
 \n Pension Bauernhof Jilg\n Hagenbach 7\, 77784 Oberharmersbach\n Veransta
 lter:\n Volkslieder Singkreis\n Termin:\n Beginn: 31.07.2026\, 17:00 Uhr\n
  Ende: 31.07.2026\n Tickets:\n Eintritt frei!\n Link:\n Page détaillée
DTSTART;TZID=Europe/Berlin:20260731T170000
DTEND;TZID=Europe/Berlin:20260731T200000
LOCATION:Pension Bauernhof Jilg\, Hagenbach 7\, 77784 Oberharmersbach
SUMMARY:Volksliedersingen in der Pension Bauernhof Jilg\, Pension Bauernhof
  Jilg
X-ALT-DESC;FMTTYPE=text/html:<strong>Kurzbeschreibung:</strong><br/>Volksli
 edersingen für JederMann/Frau. Gemeinsam werden altbekannten Lieder angest
 immt mit Akkordeonbegleitung.<br /><strong>Ort:</strong><br/>Pension Bauer
 nhof Jilg<br/>Hagenbach 7\, 77784 Oberharmersbach<br /><strong>Veranstalte
 r:</strong><br/>Volkslieder Singkreis<br /><strong>Termin:</strong><br/>Be
 ginn: 31.07.2026\, 17:00 Uhr<br/>Ende: 31.07.2026<br /><strong>Tickets: </
 strong><br/>Eintritt frei!<br /><strong>Link:</strong><br/><a href='https:
 //ok.edith-webco.de/fr/evenements/detail/evenement/id/588491-volksliedersi
 ngen-in-der-pension-bauernhof-jilg/?vt=1'>Page détaillée </a>
END:VEVENT
END:VCALENDAR
