BEGIN:VCALENDAR
VERSION:2.0
PRODID:-//ok.edith-webco.de//NONSGML kigkonsult.se iCalcreator 2.41.92//
CALSCALE:GREGORIAN
METHOD:PUBLISH
UID:31323163-3735-4331-a539-383538383563
X-WR-TIMEZONE:Europe/Berlin
X-LIC-LOCATION:Europe/Berlin
BEGIN:VEVENT
UID:588959-kulturportal@ok.edith-webco.de
DTSTAMP:20260425T214013Z
DESCRIPTION:Kurzbeschreibung:\n Deutsche Poppoesie mit den Durchstartern in
  der A-Cappella Szene zu Gast in der Reithalle Offenburg.\n Ort:\n Reithal
 le im Kulturforum\n Moltkestraße 31\, 77654 Offenburg\n Veranstalter:\n Ku
 lturbüro Offenburg\n Termin:\n Beginn: 24.10.2026\, 20:00 Uhr\n Ende: 24.1
 0.2026\n Tickets:\n Achat de billets\n https://ortenaukultur.reservix.de/p
 /reservix/event/2426085\n 1. Kategorie:\n jusqu'à 27\,40 € + Réduction\n *
 Toute taxe comprise\n \n Link:\n Page détaillée
DTSTART;TZID=Europe/Berlin:20261024T200000
DTEND;TZID=Europe/Berlin:20261024T230000
LOCATION:Reithalle im Kulturforum\, Moltkestraße 31\, 77654 Offenburg
SUMMARY:Anders\, Reithalle im Kulturforum
X-ALT-DESC;FMTTYPE=text/html:<strong>Kurzbeschreibung:</strong><br/>Deutsch
 e Poppoesie mit den Durchstartern in der A-Cappella Szene zu Gast in der R
 eithalle Offenburg.<br /><strong>Ort:</strong><br/>Reithalle im Kulturforu
 m<br/>Moltkestraße 31\, 77654 Offenburg<br /><strong>Veranstalter:</strong
 ><br/>Kulturbüro Offenburg<br /><strong>Termin:</strong><br/>Beginn: 24.10
 .2026\, 20:00 Uhr<br/>Ende: 24.10.2026<br /><strong>Tickets: </strong><br/
 ><a rel='asdf' href='https://ok.edith-webco.de/fr/evenements/musique/detai
 l/billets/id/588959-anders/?follow=https%253A%252F%252Fortenaukultur.reser
 vix.de%252Fp%252Freservix%252Fevent%252F2426085' target='_blank' title='' 
 id='ticketlink'>Achat de billets</a><br/>https://ortenaukultur.reservix.de
 /p/reservix/event/2426085<br/><b>1. Kategorie: </b><br />jusqu&#039\;à 27\
 ,40 &euro\;&nbsp\; + Réduction<br />*Toute taxe comprise<br /><br /><stron
 g>Link:</strong><br/><a href='https://ok.edith-webco.de/fr/evenements/deta
 il/evenement/id/588959-anders/?vt=1'>Page détaillée </a>
END:VEVENT
END:VCALENDAR
