BEGIN:VCALENDAR
VERSION:2.0
PRODID:-//ok.edith-webco.de//NONSGML kigkonsult.se iCalcreator 2.41.92//
CALSCALE:GREGORIAN
METHOD:PUBLISH
UID:37613062-6534-4165-b139-643231363132
X-WR-TIMEZONE:Europe/Berlin
X-LIC-LOCATION:Europe/Berlin
BEGIN:VEVENT
UID:588969-kulturportal@ok.edith-webco.de
DTSTAMP:20260425T231437Z
DESCRIPTION:Kurzbeschreibung:\n 2026 wird ein FATCAT-Jahr und mit der FOREV
 ER Tour der ultimative Beweis.\n Ort:\n Reithalle im Kulturforum\n Moltkes
 traße 31\, 77654 Offenburg\n Veranstalter:\n Kulturbüro Offenburg\n Termin
 :\n Beginn: 16.10.2026\, 20:00 Uhr\n Ende: 16.10.2026\n Tickets:\n Achat d
 e billets\n https://ortenaukultur.reservix.de/p/reservix/event/2516144\n 1
 . Kategorie:\n jusqu'à 20\,80 € + Réduction\n *Toute taxe comprise\n \n Li
 nk:\n Page détaillée
DTSTART;TZID=Europe/Berlin:20261016T200000
DTEND;TZID=Europe/Berlin:20261016T230000
LOCATION:Reithalle im Kulturforum\, Moltkestraße 31\, 77654 Offenburg
SUMMARY:Fatcat\, Reithalle im Kulturforum
X-ALT-DESC;FMTTYPE=text/html:<strong>Kurzbeschreibung:</strong><br/>2026 wi
 rd ein FATCAT-Jahr und mit der FOREVER Tour der ultimative Beweis.<br /><s
 trong>Ort:</strong><br/>Reithalle im Kulturforum<br/>Moltkestraße 31\, 776
 54 Offenburg<br /><strong>Veranstalter:</strong><br/>Kulturbüro Offenburg<
 br /><strong>Termin:</strong><br/>Beginn: 16.10.2026\, 20:00 Uhr<br/>Ende:
  16.10.2026<br /><strong>Tickets: </strong><br/><a rel='asdf' href='https:
 //ok.edith-webco.de/fr/evenements/musique/detail/billets/id/588969-fatcat/
 ?follow=https%253A%252F%252Fortenaukultur.reservix.de%252Fp%252Freservix%2
 52Fevent%252F2516144' target='_blank' title='' id='ticketlink'>Achat de bi
 llets</a><br/>https://ortenaukultur.reservix.de/p/reservix/event/2516144<b
 r/><b>1. Kategorie: </b><br />jusqu&#039\;à 20\,80 &euro\;&nbsp\; + Réduct
 ion<br />*Toute taxe comprise<br /><br /><strong>Link:</strong><br/><a hre
 f='https://ok.edith-webco.de/fr/evenements/detail/evenement/id/588969-fatc
 at/?vt=1'>Page détaillée </a>
END:VEVENT
END:VCALENDAR
