BEGIN:VCALENDAR
VERSION:2.0
PRODID:-//ok.edith-webco.de//NONSGML kigkonsult.se iCalcreator 2.41.92//
CALSCALE:GREGORIAN
METHOD:PUBLISH
UID:33373864-6631-4433-a530-633061326265
X-WR-TIMEZONE:Europe/Berlin
X-LIC-LOCATION:Europe/Berlin
BEGIN:VEVENT
UID:589059-kulturportal@ok.edith-webco.de
DTSTAMP:20260425T214838Z
DESCRIPTION:Kurzbeschreibung:\n Blues-Rock from Southern Black Forest. Der 
 Blues-Rock Top Act im Foyer der Reithalle Offenburg\n Ort:\n Reithalle im 
 Kulturforum\n Moltkestraße 31\, 77654 Offenburg\n Veranstalter:\n Kulturbü
 ro Offenburg\n Termin:\n Beginn: 10.10.2026\, 20:00 Uhr\n Ende: 10.10.2026
 \n Tickets:\n Achat de billets\n https://ortenaukultur.reservix.de/p/reser
 vix/event/2425987\n 1. Kategorie:\n jusqu'à 20\,80 € + Réduction\n 2. Kate
 gorie:\n jusqu'à 19\,00 € + Réduction\n 3. Kategorie:\n jusqu'à 19\,00 € +
  Réduction\n *Toute taxe comprise\n \n Link:\n Page détaillée
DTSTART;TZID=Europe/Berlin:20261010T200000
DTEND;TZID=Europe/Berlin:20261010T230000
LOCATION:Reithalle im Kulturforum\, Moltkestraße 31\, 77654 Offenburg
SUMMARY:Blue Deal\, Reithalle im Kulturforum
X-ALT-DESC;FMTTYPE=text/html:<strong>Kurzbeschreibung:</strong><br/>Blues-R
 ock from Southern Black Forest.\nDer Blues-Rock Top Act im Foyer der Reith
 alle Offenburg\n<br /><strong>Ort:</strong><br/>Reithalle im Kulturforum<b
 r/>Moltkestraße 31\, 77654 Offenburg<br /><strong>Veranstalter:</strong><b
 r/>Kulturbüro Offenburg<br /><strong>Termin:</strong><br/>Beginn: 10.10.20
 26\, 20:00 Uhr<br/>Ende: 10.10.2026<br /><strong>Tickets: </strong><br/><a
  rel='asdf' href='https://ok.edith-webco.de/fr/evenements/musique/detail/b
 illets/id/589059-blue-deal/?follow=https%253A%252F%252Fortenaukultur.reser
 vix.de%252Fp%252Freservix%252Fevent%252F2425987' target='_blank' title='' 
 id='ticketlink'>Achat de billets</a><br/>https://ortenaukultur.reservix.de
 /p/reservix/event/2425987<br/><b>1. Kategorie: </b><br />jusqu&#039\;à 20\
 ,80 &euro\;&nbsp\; + Réduction<br /><b>2. Kategorie: </b><br />jusqu&#039\
 ;à 19\,00 &euro\;&nbsp\; + Réduction<br /><b>3. Kategorie: </b><br />jusqu
 &#039\;à 19\,00 &euro\;&nbsp\; + Réduction<br />*Toute taxe comprise<br />
 <br /><strong>Link:</strong><br/><a href='https://ok.edith-webco.de/fr/eve
 nements/detail/evenement/id/589059-blue-deal/?vt=1'>Page détaillée </a>
END:VEVENT
END:VCALENDAR
