BEGIN:VCALENDAR
VERSION:2.0
PRODID:-//ok.edith-webco.de//NONSGML kigkonsult.se iCalcreator 2.41.92//
CALSCALE:GREGORIAN
METHOD:PUBLISH
UID:38356533-3362-4333-b866-306638653834
X-WR-TIMEZONE:Europe/Berlin
X-LIC-LOCATION:Europe/Berlin
BEGIN:VEVENT
UID:589079-kulturportal@ok.edith-webco.de
DTSTAMP:20260425T220332Z
DESCRIPTION:Kurzbeschreibung:\n Die traditionelle Weihnachtsshow mit Unikat
  und Freunden kommt auch 2026 in die Reithalle Offenburg\n Ort:\n Reithall
 e im Kulturforum\n Moltkestraße 31\, 77654 Offenburg\n Veranstalter:\n Kul
 turbüro Offenburg\n Termin:\n Beginn: 12.12.2026\, 20:00 Uhr\n Ende: 12.12
 .2026\n Tickets:\n Achat de billets\n https://ortenaukultur.reservix.de/p/
 reservix/event/2516409\n 1. Kategorie:\n jusqu'à 20\,80 € + Réduction\n *T
 oute taxe comprise\n \n Link:\n Page détaillée
DTSTART;TZID=Europe/Berlin:20261212T200000
DTEND;TZID=Europe/Berlin:20261212T230000
LOCATION:Reithalle im Kulturforum\, Moltkestraße 31\, 77654 Offenburg
SUMMARY:Weihnachtsshow mit Unikat & Freunden\, Reithalle im Kulturforum
X-ALT-DESC;FMTTYPE=text/html:<strong>Kurzbeschreibung:</strong><br/>Die tra
 ditionelle Weihnachtsshow mit Unikat und Freunden kommt auch 2026 in die R
 eithalle Offenburg<br /><strong>Ort:</strong><br/>Reithalle im Kulturforum
 <br/>Moltkestraße 31\, 77654 Offenburg<br /><strong>Veranstalter:</strong>
 <br/>Kulturbüro Offenburg<br /><strong>Termin:</strong><br/>Beginn: 12.12.
 2026\, 20:00 Uhr<br/>Ende: 12.12.2026<br /><strong>Tickets: </strong><br/>
 <a rel='asdf' href='https://ok.edith-webco.de/fr/evenements/musique/detail
 /billets/id/589079-weihnachtsshow-mit-unikat-freunden/?follow=https%253A%2
 52F%252Fortenaukultur.reservix.de%252Fp%252Freservix%252Fevent%252F2516409
 ' target='_blank' title='' id='ticketlink'>Achat de billets</a><br/>https:
 //ortenaukultur.reservix.de/p/reservix/event/2516409<br/><b>1. Kategorie: 
 </b><br />jusqu&#039\;à 20\,80 &euro\;&nbsp\; + Réduction<br />*Toute taxe
  comprise<br /><br /><strong>Link:</strong><br/><a href='https://ok.edith-
 webco.de/fr/evenements/detail/evenement/id/589079-weihnachtsshow-mit-unika
 t-freunden/?vt=1'>Page détaillée </a>
END:VEVENT
END:VCALENDAR
