BEGIN:VCALENDAR
VERSION:2.0
PRODID:-//ok.edith-webco.de//NONSGML kigkonsult.se iCalcreator 2.41.92//
CALSCALE:GREGORIAN
METHOD:PUBLISH
UID:32643065-3435-4963-a664-633533346137
X-WR-TIMEZONE:Europe/Berlin
X-LIC-LOCATION:Europe/Berlin
BEGIN:VEVENT
UID:589274-kulturportal@ok.edith-webco.de
DTSTAMP:20260425T235149Z
DESCRIPTION:Kurzbeschreibung:\n „Our Ship Is Ready“ - Award Winning Celtic 
 Music. Cara\, sind wieder mit neuem Album auf Tour.\n Ort:\n Reithalle im 
 Kulturforum\n Moltkestraße 31\, 77654 Offenburg\n Veranstalter:\n Kulturbü
 ro Offenburg\n Termin:\n Beginn: 16.04.2027\, 20:00 Uhr\n Ende: 16.04.2027
 \n Tickets:\n Achat de billets\n https://ortenaukultur.reservix.de/p/reser
 vix/event/2518758\n 1. Kategorie:\n jusqu'à 23\,00 € + Réduction\n *Toute 
 taxe comprise\n \n Link:\n Page détaillée
DTSTART;TZID=Europe/Berlin:20270416T200000
DTEND;TZID=Europe/Berlin:20270416T230000
LOCATION:Reithalle im Kulturforum\, Moltkestraße 31\, 77654 Offenburg
SUMMARY:Cara\, Reithalle im Kulturforum
X-ALT-DESC;FMTTYPE=text/html:<strong>Kurzbeschreibung:</strong><br/>„Our Sh
 ip Is Ready“ - Award Winning Celtic Music.  Cara\, sind wieder mit neuem A
 lbum auf Tour.\n<br /><strong>Ort:</strong><br/>Reithalle im Kulturforum<b
 r/>Moltkestraße 31\, 77654 Offenburg<br /><strong>Veranstalter:</strong><b
 r/>Kulturbüro Offenburg<br /><strong>Termin:</strong><br/>Beginn: 16.04.20
 27\, 20:00 Uhr<br/>Ende: 16.04.2027<br /><strong>Tickets: </strong><br/><a
  rel='asdf' href='https://ok.edith-webco.de/fr/evenements/musique/detail/b
 illets/id/589274-cara/?follow=https%253A%252F%252Fortenaukultur.reservix.d
 e%252Fp%252Freservix%252Fevent%252F2518758' target='_blank' title='' id='t
 icketlink'>Achat de billets</a><br/>https://ortenaukultur.reservix.de/p/re
 servix/event/2518758<br/><b>1. Kategorie: </b><br />jusqu&#039\;à 23\,00 &
 euro\;&nbsp\; + Réduction<br />*Toute taxe comprise<br /><br /><strong>Lin
 k:</strong><br/><a href='https://ok.edith-webco.de/fr/evenements/detail/ev
 enement/id/589274-cara/?vt=1'>Page détaillée </a>
END:VEVENT
END:VCALENDAR
