BEGIN:VCALENDAR
VERSION:2.0
PRODID:-//ok.edith-webco.de//NONSGML kigkonsult.se iCalcreator 2.41.92//
CALSCALE:GREGORIAN
METHOD:PUBLISH
UID:36353837-6134-4564-b465-666130386138
X-WR-TIMEZONE:Europe/Berlin
X-LIC-LOCATION:Europe/Berlin
BEGIN:VEVENT
UID:589507-kulturportal@ok.edith-webco.de
DTSTAMP:20260425T121526Z
DESCRIPTION:Kurzbeschreibung:\n Cleopha Classic Rock Nacht in Seelbach Seel
 bach\, Am Samstag\, den 18. Oktober\, wird das Bürgerhaus Seelbach zum Beb
 en gebracht! Walter Holtfoth\n Ort:\n Bürgerhaus im Klostergarten\n Markts
 traße 6\, 77960 Seelbach\n Veranstalter:\n Gemeinde Seelbach\n Termin:\n B
 eginn: 24.10.2026\, 19:30 Uhr\n Ende: 24.10.2026\n Tickets:\n Tickets\n ht
 tps://paypal.me/cleopha87\n 10\,00 €\n Link:\n Page détaillée
DTSTART;TZID=Europe/Berlin:20261024T193000
DTEND;TZID=Europe/Berlin:20261024T223000
LOCATION:Bürgerhaus im Klostergarten\, Marktstraße 6\, 77960 Seelbach
SUMMARY:Cleopha87\, Bürgerhaus im Klostergarten
X-ALT-DESC;FMTTYPE=text/html:<strong>Kurzbeschreibung:</strong><br/>Cleopha
  Classic Rock Nacht in Seelbach\n\nSeelbach\, Am Samstag\, den 18. Oktober
 \, wird das Bürgerhaus Seelbach zum Beben gebracht! Walter Holtfoth       
         <br /><strong>Ort:</strong><br/>Bürgerhaus im Klostergarten<br/>Ma
 rktstraße 6\, 77960 Seelbach<br /><strong>Veranstalter:</strong><br/>Gemei
 nde Seelbach<br /><strong>Termin:</strong><br/>Beginn: 24.10.2026\, 19:30 
 Uhr<br/>Ende: 24.10.2026<br /><strong>Tickets: </strong><br/><a  class='wc
 o_cb_subtitle_link'  id='ticketlink'  href='https://paypal.me/cleopha87' t
 arget='_blank' title='Öffnet externen Link https://paypal.me/cleopha87 in 
 einem neuen Fenster'>Tickets</a><br/>https://paypal.me/cleopha87<br/>10\,0
 0 € <br /><strong>Link:</strong><br/><a href='https://ok.edith-webco.de/fr
 /evenements/detail/evenement/id/589507-cleopha87/?vt=1'>Page détaillée </a
 >
END:VEVENT
END:VCALENDAR
