BEGIN:VCALENDAR
VERSION:2.0
PRODID:-//ok.edith-webco.de//NONSGML kigkonsult.se iCalcreator 2.41.92//
CALSCALE:GREGORIAN
METHOD:PUBLISH
UID:66643462-3631-4736-b435-346437663336
X-WR-TIMEZONE:Europe/Berlin
X-LIC-LOCATION:Europe/Berlin
BEGIN:VEVENT
UID:590791-kulturportal@ok.edith-webco.de
DTSTAMP:20260425T171842Z
DESCRIPTION:Kurzbeschreibung:\n Viva la Vida: Anlässlich der Heimattage fei
 ert Oberkirch die Preview des neuen Programms von SWR1 Pop und Poesie auf 
 dem Oberkircher Marktplatz.\n Ort:\n Marktplatz\n Hauptstraße\, 77704 Ober
 kirch\n Veranstalter:\n Stadt Oberkirch\n Termin:\n Beginn: 16.05.2026\, 2
 0:00 Uhr\n Ende: 16.05.2026\n Tickets:\n Tickets ab 20.03.26 hier online e
 rhältlich (Stehplätze)\n https://eveeno.com/popundpoesie\n Eintritt frei. 
 Kostenfreie Tickets erforderlich und online erhältlich. Die kostenfreien E
 inlass-Tickets sind aktuell ausgebucht (Stand: 21.03.2026). Sie können sic
 h für die Warteliste registrieren.\n \n Link:\n Page détaillée
DTSTART;TZID=Europe/Berlin:20260516T200000
DTEND;TZID=Europe/Berlin:20260516T230000
LOCATION:Marktplatz\, Hauptstraße\, 77704 Oberkirch
SUMMARY:SWR1 Pop & Poesie in Concert\, Marktplatz
X-ALT-DESC;FMTTYPE=text/html:<strong>Kurzbeschreibung:</strong><br/>Viva la
  Vida: Anlässlich der Heimattage feiert Oberkirch die Preview des neuen Pr
 ogramms von SWR1 Pop und Poesie auf dem Oberkircher Marktplatz.<br /><stro
 ng>Ort:</strong><br/>Marktplatz<br/>Hauptstraße\, 77704 Oberkirch<br /><st
 rong>Veranstalter:</strong><br/>Stadt Oberkirch<br /><strong>Termin:</stro
 ng><br/>Beginn: 16.05.2026\, 20:00 Uhr<br/>Ende: 16.05.2026<br /><strong>T
 ickets: </strong><br/><a  class='wco_cb_subtitle_link'  id='ticketlink'  h
 ref='https://eveeno.com/popundpoesie' target='_blank' title='Öffnet extern
 en Link in einem neuen Fenster'>Tickets ab 20.03.26 hier online erhältlich
  (Stehplätze)</a><br/>https://eveeno.com/popundpoesie<br/>Eintritt frei. K
 ostenfreie Tickets erforderlich und online erhältlich. Die kostenfreien Ei
 nlass-Tickets sind aktuell ausgebucht (Stand: 21.03.2026). Sie können sich
  für die Warteliste registrieren. <br />\n<br /><strong>Link:</strong><br/
 ><a href='https://ok.edith-webco.de/fr/evenements/detail/evenement/id/5907
 91-swr1-pop-poesie-in-concert/?vt=1'>Page détaillée </a>
END:VEVENT
END:VCALENDAR
