BEGIN:VCALENDAR
VERSION:2.0
PRODID:-//ok.edith-webco.de//NONSGML kigkonsult.se iCalcreator 2.41.92//
CALSCALE:GREGORIAN
METHOD:PUBLISH
UID:35633836-6235-4838-a637-353534323838
X-WR-TIMEZONE:Europe/Berlin
X-LIC-LOCATION:Europe/Berlin
BEGIN:VEVENT
UID:591282-kulturportal@ok.edith-webco.de
DTSTAMP:20260425T142856Z
DESCRIPTION:Kurzbeschreibung:\n Unter der Leitung von Mathias Gronert erwar
 tet die BesucherInnen ein abwechslungsreiches Programm mit sinfonischer\, 
 moderner und festlicher Musik\n Ort:\n Turn- und Festhalle\n Schulstr. 1\,
  77790 Steinach\n Veranstalter:\n Musikverein 'Harmonie'\n Termin:\n Begin
 n: 19.12.2026\, 20:00 Uhr\n Ende: 19.12.2026\n Link:\n Page détaillée
DTSTART;TZID=Europe/Berlin:20261219T200000
DTEND;TZID=Europe/Berlin:20261219T230000
LOCATION:Turn- und Festhalle\, Schulstr. 1\, 77790 Steinach
SUMMARY:Jahreskonzert des Musikvereins Steinach\, Turn- und Festhalle
X-ALT-DESC;FMTTYPE=text/html:<strong>Kurzbeschreibung:</strong><br/>Unter d
 er Leitung von Mathias Gronert erwartet die BesucherInnen ein abwechslungs
 reiches Programm mit sinfonischer\, moderner und festlicher Musik<br /><st
 rong>Ort:</strong><br/>Turn- und Festhalle<br/>Schulstr. 1\, 77790 Steinac
 h<br /><strong>Veranstalter:</strong><br/>Musikverein 'Harmonie'<br /><str
 ong>Termin:</strong><br/>Beginn: 19.12.2026\, 20:00 Uhr<br/>Ende: 19.12.20
 26<br /><strong>Link:</strong><br/><a href='https://ok.edith-webco.de/fr/e
 venements/detail/evenement/id/591282-jahreskonzert-des-musikvereins-steina
 ch/?vt=1'>Page détaillée </a>
END:VEVENT
END:VCALENDAR
