BEGIN:VCALENDAR
VERSION:2.0
PRODID:-//ok.edith-webco.de//NONSGML kigkonsult.se iCalcreator 2.41.92//
CALSCALE:GREGORIAN
METHOD:PUBLISH
UID:31303461-6466-4833-a563-646266393631
X-WR-TIMEZONE:Europe/Berlin
X-LIC-LOCATION:Europe/Berlin
BEGIN:VEVENT
UID:591562-kulturportal@ok.edith-webco.de
DTSTAMP:20260425T032322Z
DESCRIPTION:Kurzbeschreibung:\n Zum 350. Todestag von Johann Jakob Christop
 h von Grimmelshausen lädt das Konzert ein\, die Klangwelten dieser Epoche 
 neu zu entdecken\n Ort:\n Kath. Kirche Heilig Kreuz\, Renchen\n Veranstalt
 er:\n Stadt Renchen\n Termin:\n Beginn: 22.10.2026\, 19:00 Uhr\n Ende: 22.
 10.2026\n Tickets:\n Tickets\n https://www.reservix.de/p/reservix/event/25
 24074\n VVK 15 €\, AK 18 €\n Link:\n Page détaillée
DTSTART;TZID=Europe/Berlin:20261022T190000
DTEND;TZID=Europe/Berlin:20261022T220000
LOCATION:Kath. Kirche Heilig Kreuz\, Renchen
SUMMARY:Barockkonzert in der Katholische Kirche Heilig Kreuz Renchen\, Kath
 . Kirche Heilig Kreuz
X-ALT-DESC;FMTTYPE=text/html:<strong>Kurzbeschreibung:</strong><br/>Zum 350
 . Todestag von Johann Jakob Christoph von Grimmelshausen lädt das Konzert 
 ein\, die Klangwelten dieser Epoche neu zu entdecken<br /><strong>Ort:</st
 rong><br/>Kath. Kirche Heilig Kreuz\, Renchen<br /><strong>Veranstalter:</
 strong><br/>Stadt Renchen<br /><strong>Termin:</strong><br/>Beginn: 22.10.
 2026\, 19:00 Uhr<br/>Ende: 22.10.2026<br /><strong>Tickets: </strong><br/>
 <a  class='wco_cb_subtitle_link'  id='ticketlink'  href='https://www.reser
 vix.de/p/reservix/event/2524074' target='_blank' title='Öffnet externen Li
 nk in einem neuen Fenster'>Tickets</a><br/>https://www.reservix.de/p/reser
 vix/event/2524074<br/>VVK 15 €\, AK 18 € <br /><strong>Link:</strong><br/>
 <a href='https://ok.edith-webco.de/fr/evenements/detail/evenement/id/59156
 2-barockkonzert-in-der-katholische-kirche-heilig-kreuz-renchen/?vt=1'>Page
  détaillée </a>
END:VEVENT
END:VCALENDAR
