BEGIN:VCALENDAR
VERSION:2.0
PRODID:-//ok.edith-webco.de//NONSGML kigkonsult.se iCalcreator 2.41.92//
CALSCALE:GREGORIAN
METHOD:PUBLISH
UID:31333366-6637-4735-b966-613962643138
X-WR-TIMEZONE:Europe/Berlin
X-LIC-LOCATION:Europe/Berlin
BEGIN:VEVENT
UID:594241-kulturportal@ok.edith-webco.de
DTSTAMP:20260426T004556Z
DESCRIPTION:Kurzbeschreibung:\n Offenburger Streichtrio mit Daniel Lampert\
 , Flöte und Francesca Pronto\, Harfe Werke von Shield\, Cras und Mozart\n 
 Ort:\n Kreuzgang / Kapuzinerkloster\n Gymnasiumstraße 7\, 77652 Offenburg
 \n Veranstalter:\n Kulturbüro Offenburg\n Termin:\n Beginn: 21.06.2026\, 1
 9:00 Uhr\n Ende: 21.06.2026\n Tickets:\n Achat de billets\n https://ortena
 ukultur.reservix.de/p/reservix/event/2520981\n 1. Kategorie:\n jusqu'à 23\
 ,00 € + Réduction\n *Toute taxe comprise\n \n Link:\n Page détaillée
DTSTART;TZID=Europe/Berlin:20260621T190000
DTEND;TZID=Europe/Berlin:20260621T220000
LOCATION:Kreuzgang / Kapuzinerkloster\, Gymnasiumstraße 7\, 77652 Offenburg
SUMMARY:Kreuzgangkonzert - '....zwischen Himmel und Meer'\, Kreuzgang / Kap
 uzinerkloster
X-ALT-DESC;FMTTYPE=text/html:<strong>Kurzbeschreibung:</strong><br/>Offenbu
 rger Streichtrio mit Daniel Lampert\, Flöte und Francesca Pronto\, Harfe 
 \nWerke von Shield\, Cras und Mozart\n<br /><strong>Ort:</strong><br/>Kreu
 zgang / Kapuzinerkloster<br/>Gymnasiumstraße 7\, 77652 Offenburg<br /><str
 ong>Veranstalter:</strong><br/>Kulturbüro Offenburg<br /><strong>Termin:</
 strong><br/>Beginn: 21.06.2026\, 19:00 Uhr<br/>Ende: 21.06.2026<br /><stro
 ng>Tickets: </strong><br/><a rel='asdf' href='https://ok.edith-webco.de/fr
 /evenements/musique/detail/billets/id/594241-kreuzgangkonzert-zwischen-him
 mel-und-meer/?follow=https%253A%252F%252Fortenaukultur.reservix.de%252Fp%2
 52Freservix%252Fevent%252F2520981' target='_blank' title='' id='ticketlink
 '>Achat de billets</a><br/>https://ortenaukultur.reservix.de/p/reservix/ev
 ent/2520981<br/><b>1. Kategorie: </b><br />jusqu&#039\;à 23\,00 &euro\;&nb
 sp\; + Réduction<br />*Toute taxe comprise<br /><br /><strong>Link:</stron
 g><br/><a href='https://ok.edith-webco.de/fr/evenements/detail/evenement/i
 d/594241-kreuzgangkonzert-zwischen-himmel-und-meer/?vt=1'>Page détaillée <
 /a>
END:VEVENT
END:VCALENDAR
