BEGIN:VCALENDAR
VERSION:2.0
PRODID:-//ok.edith-webco.de//NONSGML kigkonsult.se iCalcreator 2.41.92//
CALSCALE:GREGORIAN
METHOD:PUBLISH
UID:61333237-3131-4361-a539-666635363266
X-WR-TIMEZONE:Europe/Berlin
X-LIC-LOCATION:Europe/Berlin
BEGIN:VEVENT
UID:594242-kulturportal@ok.edith-webco.de
DTSTAMP:20260425T232724Z
DESCRIPTION:Kurzbeschreibung:\n Mit Werken von Haydn\, Mozart und Tschaikow
 sky - Abschluss der Offenburger Kreuzgangkonzerte 2026.\n Ort:\n Kreuzgang
  / Kapuzinerkloster\n Gymnasiumstraße 7\, 77652 Offenburg\n Veranstalter:
 \n Kulturbüro Offenburg\n Termin:\n Beginn: 05.07.2026\, 19:00 Uhr\n Ende:
  05.07.2026\n Tickets:\n Achat de billets\n https://ortenaukultur.reservix
 .de/p/reservix/event/2520983\n 1. Kategorie:\n jusqu'à 23\,00 € + Réductio
 n\n *Toute taxe comprise\n \n Link:\n Page détaillée
DTSTART;TZID=Europe/Berlin:20260705T190000
DTEND;TZID=Europe/Berlin:20260705T220000
LOCATION:Kreuzgang / Kapuzinerkloster\, Gymnasiumstraße 7\, 77652 Offenburg
SUMMARY:Kreuzgangkonzert - „Saitenzauber von Wien bis Florenz“\, Kreuzgang 
 / Kapuzinerkloster
X-ALT-DESC;FMTTYPE=text/html:<strong>Kurzbeschreibung:</strong><br/>Mit Wer
 ken von Haydn\, Mozart und Tschaikowsky - Abschluss der Offenburger Kreuzg
 angkonzerte 2026.<br /><strong>Ort:</strong><br/>Kreuzgang / Kapuzinerklos
 ter<br/>Gymnasiumstraße 7\, 77652 Offenburg<br /><strong>Veranstalter:</st
 rong><br/>Kulturbüro Offenburg<br /><strong>Termin:</strong><br/>Beginn: 0
 5.07.2026\, 19:00 Uhr<br/>Ende: 05.07.2026<br /><strong>Tickets: </strong>
 <br/><a rel='asdf' href='https://ok.edith-webco.de/fr/evenements/musique/d
 etail/billets/id/594242-kreuzgangkonzert-saitenzauber-von-wien-bis-florenz
 /?follow=https%253A%252F%252Fortenaukultur.reservix.de%252Fp%252Freservix%
 252Fevent%252F2520983' target='_blank' title='' id='ticketlink'>Achat de b
 illets</a><br/>https://ortenaukultur.reservix.de/p/reservix/event/2520983<
 br/><b>1. Kategorie: </b><br />jusqu&#039\;à 23\,00 &euro\;&nbsp\; + Réduc
 tion<br />*Toute taxe comprise<br /><br /><strong>Link:</strong><br/><a hr
 ef='https://ok.edith-webco.de/fr/evenements/detail/evenement/id/594242-kre
 uzgangkonzert-saitenzauber-von-wien-bis-florenz/?vt=1'>Page détaillée </a>
END:VEVENT
END:VCALENDAR
