BEGIN:VCALENDAR
VERSION:2.0
PRODID:-//ok.edith-webco.de//NONSGML kigkonsult.se iCalcreator 2.41.92//
CALSCALE:GREGORIAN
METHOD:PUBLISH
UID:32343134-3734-4665-b266-326664383134
X-WR-TIMEZONE:Europe/Berlin
X-LIC-LOCATION:Europe/Berlin
BEGIN:VEVENT
UID:594243-kulturportal@ok.edith-webco.de
DTSTAMP:20260425T171147Z
DESCRIPTION:Kurzbeschreibung:\n Anna Adamik\, Klavier Martin Merker\, Violo
 ncello Werke von: Scarlatti\, Rossini\, Donizetti\, Strawinsky und Cassado
 r\n Ort:\n Kreuzgang / Kapuzinerkloster\n Gymnasiumstraße 7\, 77652 Offenb
 urg\n Veranstalter:\n Kulturbüro Offenburg\n Termin:\n Beginn: 07.06.2026\
 , 19:00 Uhr\n Ende: 07.06.2026\n Tickets:\n Achat de billets\n https://ort
 enaukultur.reservix.de/p/reservix/event/2520977\n 1. Kategorie:\n jusqu'à 
 23\,00 € + Réduction\n *Toute taxe comprise\n \n Link:\n Page détaillée
DTSTART;TZID=Europe/Berlin:20260607T190000
DTEND;TZID=Europe/Berlin:20260607T220000
LOCATION:Kreuzgang / Kapuzinerkloster\, Gymnasiumstraße 7\, 77652 Offenburg
SUMMARY:Kreuzgangkonzert - Klänge des Südens\, Kreuzgang / Kapuzinerkloster
X-ALT-DESC;FMTTYPE=text/html:<strong>Kurzbeschreibung:</strong><br/>Anna Ad
 amik\, Klavier\nMartin Merker\, Violoncello \nWerke von: Scarlatti\, Rossi
 ni\, Donizetti\, Strawinsky und Cassador\n<br /><strong>Ort:</strong><br/>
 Kreuzgang / Kapuzinerkloster<br/>Gymnasiumstraße 7\, 77652 Offenburg<br />
 <strong>Veranstalter:</strong><br/>Kulturbüro Offenburg<br /><strong>Termi
 n:</strong><br/>Beginn: 07.06.2026\, 19:00 Uhr<br/>Ende: 07.06.2026<br /><
 strong>Tickets: </strong><br/><a rel='asdf' href='https://ok.edith-webco.d
 e/fr/evenements/musique/detail/billets/id/594243-kreuzgangkonzert-klaenge-
 des-suedens/?follow=https%253A%252F%252Fortenaukultur.reservix.de%252Fp%25
 2Freservix%252Fevent%252F2520977' target='_blank' title='' id='ticketlink'
 >Achat de billets</a><br/>https://ortenaukultur.reservix.de/p/reservix/eve
 nt/2520977<br/><b>1. Kategorie: </b><br />jusqu&#039\;à 23\,00 &euro\;&nbs
 p\; + Réduction<br />*Toute taxe comprise<br /><br /><strong>Link:</strong
 ><br/><a href='https://ok.edith-webco.de/fr/evenements/detail/evenement/id
 /594243-kreuzgangkonzert-klaenge-des-suedens/?vt=1'>Page détaillée </a>
END:VEVENT
END:VCALENDAR
